BEGIN:VCALENDAR
VERSION:2.0
PRODID:-//evangelische-termine.de//NONSGML kigkonsult.se iCalcreator 2.18//
CALSCALE:GREGORIAN
METHOD:PUBLISH
X-WR-CALNAME:iCal Evangelische-Termine 23.04.2026
X-WR-CALDESC:iCalender von Evangelische-Termine (23.04.2026)
X-WR-TIMEZONE:Europe/Berlin
X-MS-OLK-FORCEINSPECTOROPEN:TRUE
BEGIN:VTIMEZONE
TZID:Europe/Berlin
BEGIN:STANDARD
DTSTART:19701025T030000
TZOFFSETFROM:+0200
TZOFFSETTO:+0100
RRULE:FREQ=YEARLY;BYDAY=-1SU;BYMONTH=10
TZNAME:CET
END:STANDARD
BEGIN:DAYLIGHT
DTSTART:19700329T020000
TZOFFSETFROM:+0100
TZOFFSETTO:+0200
RRULE:FREQ=YEARLY;BYDAY=-1SU;BYMONTH=3
TZNAME:CEST
END:DAYLIGHT
END:VTIMEZONE
BEGIN:VEVENT
UID:20190818T000000-230067@evangelische-termine.de
DTSTAMP:20260423T012517Z
DESCRIPTION:\nVeranstaltungsort: St.Michael-Kirche Woltersdorf\nR.-Breitsch
 eid-Str.\n15569 Woltersdorf\nAnsprechperson: Trodler\, Matthias buero-evki
 wo@gmx.de\nTel.: 03362 5237\nFax: 03362 25377\nwww.evkiwo.de
DTSTART;VALUE=DATE:20190818
DTEND;VALUE=DATE:20191007
LOCATION:Woltersdorf: St.Michael-Kirche Woltersdorf
SUMMARY:60. Kunstausstellung - Ralph Weber\, Fotografie 'Zeitreise: Digital
 e Kunstwerke'
URL:https://ekbo-termine.de/veranstaltung_im_detail230067.html
END:VEVENT
END:VCALENDAR
