BEGIN:VCALENDAR
VERSION:2.0
PRODID:-//evangelische-termine.de//NONSGML kigkonsult.se iCalcreator 2.18//
CALSCALE:GREGORIAN
METHOD:PUBLISH
X-WR-CALNAME:iCal Evangelische-Termine 25.04.2026
X-WR-CALDESC:iCalender von Evangelische-Termine (25.04.2026)
X-WR-TIMEZONE:Europe/Berlin
X-MS-OLK-FORCEINSPECTOROPEN:TRUE
BEGIN:VTIMEZONE
TZID:Europe/Berlin
BEGIN:STANDARD
DTSTART:19701025T030000
TZOFFSETFROM:+0200
TZOFFSETTO:+0100
RRULE:FREQ=YEARLY;BYDAY=-1SU;BYMONTH=10
TZNAME:CET
END:STANDARD
BEGIN:DAYLIGHT
DTSTART:19700329T020000
TZOFFSETFROM:+0100
TZOFFSETTO:+0200
RRULE:FREQ=YEARLY;BYDAY=-1SU;BYMONTH=3
TZNAME:CEST
END:DAYLIGHT
END:VTIMEZONE
BEGIN:VEVENT
UID:20190517T180000-252612@evangelische-termine.de
DTSTAMP:20260425T154727Z
DESCRIPTION:\nVeranstaltungsort: Pfarrhaus Putlitz\nErnst-Thälmann-Straße 1
 7\n16949 Putlitz\nWeitere Informationen/Besondere Hinweise: Es gehört mitt
 lerweile zur guten Tradition\, dass sich Musikschaffende aus unserem Amtsb
 ereich auf dem Pfarrhof in Putlitz treffen. Sowohl der Fanfarenzug\, die J
 agdhornbläser\, Flötenspieler und Flötenspielerinnen\, Blechbläser des Pos
 aunenchores\, Sänger und Sängerinnen des Vokalchores und die Musiker der B
 and laden zu einem Abend der Begegnungen ein. Hier stellen wir unsere musi
 kalischen Leistungen gegenseitig vor und erfreuen uns an der Vielfalt der 
 Musik in unserer Gegend. Ein solcher Abend widerspricht der Meinung\, dass
  „nichts los sei“ in unseren Orten.\nMusikalische Kategorie: Chormusik\; B
 läsermusik
DTSTART;TZID=Europe/Berlin:20190517T180000
DTEND;TZID=Europe/Berlin:20190517T190000
LOCATION:Putlitz: Pfarrhaus Putlitz
SUMMARY:Musikerhofparty
URL:https://ekbo-termine.de/veranstaltung_im_detail252612.html
END:VEVENT
END:VCALENDAR
