BEGIN:VCALENDAR
VERSION:2.0
PRODID:-//evangelische-termine.de//NONSGML kigkonsult.se iCalcreator 2.18//
CALSCALE:GREGORIAN
METHOD:PUBLISH
X-WR-CALNAME:iCal Evangelische-Termine 24.04.2026
X-WR-CALDESC:iCalender von Evangelische-Termine (24.04.2026)
X-WR-TIMEZONE:Europe/Berlin
X-MS-OLK-FORCEINSPECTOROPEN:TRUE
BEGIN:VTIMEZONE
TZID:Europe/Berlin
BEGIN:STANDARD
DTSTART:19701025T030000
TZOFFSETFROM:+0200
TZOFFSETTO:+0100
RRULE:FREQ=YEARLY;BYDAY=-1SU;BYMONTH=10
TZNAME:CET
END:STANDARD
BEGIN:DAYLIGHT
DTSTART:19700329T020000
TZOFFSETFROM:+0100
TZOFFSETTO:+0200
RRULE:FREQ=YEARLY;BYDAY=-1SU;BYMONTH=3
TZNAME:CEST
END:DAYLIGHT
END:VTIMEZONE
BEGIN:VEVENT
UID:20191109T120000-268825@evangelische-termine.de
DTSTAMP:20260423T232127Z
DESCRIPTION:\nPfarrperson oder Gottesdienstleitung: Eva-Maria Menard\nVeran
 staltungsort: An der Elbfähre bei Lütkenwisch\nElbstraße\n19309 Lütkenwisc
 h\nWeitere Informationen/Besondere Hinweise: Zwischen Lütkenwisch und Schn
 ackenburg mit Gästen von „hüben und drüben“ u. a. Bischof der Hannoversche
 n Landeskirche Ralf Meister\, Generalsuperintendentin Heilgard Asmus\, Lan
 drat Torsten Uhe\, Superintendentin Eva-Maria Menard\, Superintendent Wich
 ert-von-Holten\, Superintendent Heinrich\, der Gruppe Patchwork\, Posaunen
 chören aus den Kirchenkreisen Prignitz und Lüchow-Dannenberg.
DTSTART;TZID=Europe/Berlin:20191109T120000
DTEND;TZID=Europe/Berlin:20191109T130000
LOCATION:Lütkenwisch: An der Elbfähre bei Lütkenwisch
SUMMARY:„Freiheit im Fluss“ – Gottesdienst\, Gedenken und Feiern an der Elb
 efähre bei Lütkenwisch
URL:https://ekbo-termine.de/veranstaltung_im_detail268825.html
END:VEVENT
END:VCALENDAR
