BEGIN:VCALENDAR
VERSION:2.0
PRODID:-//evangelische-termine.de//NONSGML kigkonsult.se iCalcreator 2.18//
CALSCALE:GREGORIAN
METHOD:PUBLISH
X-WR-CALNAME:iCal Evangelische-Termine 22.04.2026
X-WR-CALDESC:iCalender von Evangelische-Termine (22.04.2026)
X-WR-TIMEZONE:Europe/Berlin
X-MS-OLK-FORCEINSPECTOROPEN:TRUE
BEGIN:VTIMEZONE
TZID:Europe/Berlin
BEGIN:STANDARD
DTSTART:19701025T030000
TZOFFSETFROM:+0200
TZOFFSETTO:+0100
RRULE:FREQ=YEARLY;BYDAY=-1SU;BYMONTH=10
TZNAME:CET
END:STANDARD
BEGIN:DAYLIGHT
DTSTART:19700329T020000
TZOFFSETFROM:+0100
TZOFFSETTO:+0200
RRULE:FREQ=YEARLY;BYDAY=-1SU;BYMONTH=3
TZNAME:CEST
END:DAYLIGHT
END:VTIMEZONE
BEGIN:VEVENT
UID:20191205T163000-296292@evangelische-termine.de
DTSTAMP:20260422T000114Z
DESCRIPTION:\nKurzbeschreibung: Intuitives Bogenschießen in Kombination mit
  Meditations- und Konzentrationsübungen\nVeranstaltungsort: Das Haus Grünt
 al e.V.\nDorfstraße 39\n16230 Sydower Fließ OT Grüntal\nDAS HAUS GRÜNTAL\n
 Besinnungs-\, Begegnungs- und Bildungszentrum in der EKBO\n\nDorfstraße 39
 \n16230 Sydower Fließ\, OT Grüntal\n\nE-Mail: haus_gruental@posteo.de\n\nP
 farrerin Andrea Richter\nTel. 0151 2107 6025\na.richter@akd-ekbo.de\n\n\nD
 as HAUS e.V. liegt an dem bald fertig ausgeschilderten Pilgerweg Stettin-B
 erlin und ist offizielle Herberge der Jakobusgesellschaft Brandenburg-Oder
 region e.V.\nWeitere Informationen/Besondere Hinweise: Erwachsene und Juge
 ndliche ab 12 Jahre. Für die Bereitstellung von Übungsmaterial (Bogen\, Pf
 eile\, Scheiben\, etc.) wird ein Unkostenbeitrag von 5 € pro Übungstermin/
 Person erhoben\, Jugendliche 3 €. \n\nVor Ort werden Meditations- und Konz
 entrationsübungen von Pfarrer Utz Berlin\, das Übungsschießen von Herbert 
 Noll und Carina Vogel betreut. Die Betreuer und das Haus Grüntal e.V. als 
 Gastgeber übernehmen bei Unfällen und Schäden jeder Art keine Haftung. Jed
 er Schütze ist für sein Verhalten selbst verantwortlich. Jugendliche unter
  16 Jahren dürfen nur in Begleitung einer Aufsichtsperson an dem Übungspro
 gramm teilnehmen.\n\nDie Teilnahme am Übungsschießen erfolgt auf eigene Ge
 fahr\; es wird der Abschluss einer persönlichen Haftpflicht/Unfallversiche
 rung empfohlen.
DTSTART;TZID=Europe/Berlin:20191205T163000
DTEND;TZID=Europe/Berlin:20191205T183000
LOCATION:Sydower Fließ OT Grüntal: Das Haus Grüntal e.V.
SUMMARY:Bogenschießen in Grüntal :: Meditation im Haus Grüntal\, anschließe
 nd Bogenschießen in der benachbarten Turnhalle!
URL:https://ekbo-termine.de/veranstaltung_im_detail296292.html
END:VEVENT
END:VCALENDAR
