BEGIN:VCALENDAR
VERSION:2.0
PRODID:-//evangelische-termine.de//NONSGML kigkonsult.se iCalcreator 2.18//
CALSCALE:GREGORIAN
METHOD:PUBLISH
X-WR-CALNAME:iCal Evangelische-Termine 24.04.2026
X-WR-CALDESC:iCalender von Evangelische-Termine (24.04.2026)
X-WR-TIMEZONE:Europe/Berlin
X-MS-OLK-FORCEINSPECTOROPEN:TRUE
BEGIN:VTIMEZONE
TZID:Europe/Berlin
BEGIN:STANDARD
DTSTART:19701025T030000
TZOFFSETFROM:+0200
TZOFFSETTO:+0100
RRULE:FREQ=YEARLY;BYDAY=-1SU;BYMONTH=10
TZNAME:CET
END:STANDARD
BEGIN:DAYLIGHT
DTSTART:19700329T020000
TZOFFSETFROM:+0100
TZOFFSETTO:+0200
RRULE:FREQ=YEARLY;BYDAY=-1SU;BYMONTH=3
TZNAME:CEST
END:DAYLIGHT
END:VTIMEZONE
BEGIN:VEVENT
UID:20200829T000000-338269@evangelische-termine.de
DTSTAMP:20260424T072240Z
DESCRIPTION:\nKurzbeschreibung: Ausstellungsöffnungszeiten Juli-Oktober: 9-
 15 Uhr (Mo-Fr) und 14-16 Uhr (Sa/So)\nVeranstaltungsort: Friedhof Dreifalt
 igkeit I am Halleschen Tor\nMehringdamm 21\n10961 Berlin\nWeitere Informat
 ionen/Besondere Hinweise: Die Dauerausstellung erzählt die Geschichte des 
 jüdischen Philosophen Moses Mendelssohns und seiner Nachfahren\, die auf d
 en Friedhöfen am Mehringdamm bestattet wurden\; darunter die Komponistenge
 schwister Fanny Hensel und Felix Mendelssohn Bartholdy. Lebensläufe und Th
 emen werden skizziert\, mit denen Mendelssohn-Nachfahren von der Aufklärun
 gsepoche bis zur NS-Zeit die Entwicklung der deutschen Gesellschaft beeinf
 lußt haben: Philosophie und Religion\, Musik und Kunst\, Literatur\, Wirts
 chaft und Politik. Eine Zehn-Meter-Stammbaumtafel – 1500 Personen\, sieben
  Generationen – läßt Dimensionen dieser Assimilations- und Integrations-Ge
 nealogie erahnen\, die sich in viele Emigrationsschicksale verzweigt hat.
 \nEintritt: Eintritt frei.\nInternetadresse: https://www.mendelssohn-gesel
 lschaft.de/
DTSTART;VALUE=DATE:20200829
DTEND;VALUE=DATE:20201101
LOCATION:Berlin: Friedhof Dreifaltigkeit I am Halleschen Tor
RRULE:FREQ=DAILY;UNTIL=20201031T235900Z;INTERVAL=1;WKST=SU
SUMMARY:Die Familie Mendelssohn und ihre Gräber vor dem Halleschen Tor :: Ö
 ffnungzeiten 9-15 Uhr (Mo-Fr) und 14-16 (Sa/So)
URL:https://ekbo-termine.de/veranstaltung_im_detail338269.html
END:VEVENT
END:VCALENDAR
