BEGIN:VCALENDAR
VERSION:2.0
PRODID:-//evangelische-termine.de//NONSGML kigkonsult.se iCalcreator 2.18//
CALSCALE:GREGORIAN
METHOD:PUBLISH
X-WR-CALNAME:iCal Evangelische-Termine 20.04.2026
X-WR-CALDESC:iCalender von Evangelische-Termine (20.04.2026)
X-WR-TIMEZONE:Europe/Berlin
X-MS-OLK-FORCEINSPECTOROPEN:TRUE
BEGIN:VTIMEZONE
TZID:Europe/Berlin
BEGIN:STANDARD
DTSTART:19701025T030000
TZOFFSETFROM:+0200
TZOFFSETTO:+0100
RRULE:FREQ=YEARLY;BYDAY=-1SU;BYMONTH=10
TZNAME:CET
END:STANDARD
BEGIN:DAYLIGHT
DTSTART:19700329T020000
TZOFFSETFROM:+0100
TZOFFSETTO:+0200
RRULE:FREQ=YEARLY;BYDAY=-1SU;BYMONTH=3
TZNAME:CEST
END:DAYLIGHT
END:VTIMEZONE
BEGIN:VEVENT
UID:20210810T190000-372013@evangelische-termine.de
DTSTAMP:20260420T193746Z
DESCRIPTION:\nKategorie: Konzert\nKurzbeschreibung: Orgelmusik des Barock a
 uf der Wagner-Orgel\nVeranstaltungsort: Ev. Kirche Rühstädt\nRühstädter Do
 rfkirche\n19322 Rühstädt\nVeranstaltungstext: An der Wagnerorgel wird Domk
 antor Matthias Bensch aus Havelberg „Orgelmusik des Barock“ zu Gehör bring
 en.\nMitwirkende/Musizierende und aufgeführte Werke: Matthias Bensch (Orge
 l)\nUnsere Orgel: Orgel von Wagner (1738)\, 10 I+P\, Schleifladen\, mech. 
 Traktur\nEintritt: Eintritt frei\; Spenden erwünscht
DTSTART;TZID=Europe/Berlin:20210810T190000
DTEND;TZID=Europe/Berlin:20210810T200000
LOCATION:Rühstädt: Ev. Kirche Rühstädt
SUMMARY:Rühstädt: Musik des Barock auf der Wagner-Orgel
URL:https://ekbo-termine.de/veranstaltung_im_detail372013.html
END:VEVENT
END:VCALENDAR
