BEGIN:VCALENDAR
VERSION:2.0
PRODID:-//evangelische-termine.de//NONSGML kigkonsult.se iCalcreator 2.18//
CALSCALE:GREGORIAN
METHOD:PUBLISH
X-WR-CALNAME:iCal Evangelische-Termine 26.04.2026
X-WR-CALDESC:iCalender von Evangelische-Termine (26.04.2026)
X-WR-TIMEZONE:Europe/Berlin
X-MS-OLK-FORCEINSPECTOROPEN:TRUE
BEGIN:VTIMEZONE
TZID:Europe/Berlin
BEGIN:STANDARD
DTSTART:19701025T030000
TZOFFSETFROM:+0200
TZOFFSETTO:+0100
RRULE:FREQ=YEARLY;BYDAY=-1SU;BYMONTH=10
TZNAME:CET
END:STANDARD
BEGIN:DAYLIGHT
DTSTART:19700329T020000
TZOFFSETFROM:+0100
TZOFFSETTO:+0200
RRULE:FREQ=YEARLY;BYDAY=-1SU;BYMONTH=3
TZNAME:CEST
END:DAYLIGHT
END:VTIMEZONE
BEGIN:VEVENT
UID:20210521T180000-376027@evangelische-termine.de
DTSTAMP:20260426T013811Z
DESCRIPTION:\nKurzbeschreibung: Musikalischer Gottesdienst am Vorabend der 
 Konfirmation\nPfarrperson oder Gottesdienstleitung: Eike Thies\nVeranstalt
 ungsort: Alte Pfarrkirche Pankow\nBreite Str. 37\n13187 Berlin-Pankow\nGem
 eindebüro:\nBreite Str. 38\n13187 Berlin-Pankow\nTel.: 030-47 53 42 53\nE-
 Mail: gemeinde@alt-pankow.de\nwww.alt-pankow.de
DTSTART;TZID=Europe/Berlin:20210521T180000
DTEND;TZID=Europe/Berlin:20210521T190000
LOCATION:Berlin-Pankow: Alte Pfarrkirche Pankow
SUMMARY:Gottesdienst
URL:https://ekbo-termine.de/veranstaltung_im_detail376027.html
END:VEVENT
END:VCALENDAR
