BEGIN:VCALENDAR
VERSION:2.0
PRODID:-//evangelische-termine.de//NONSGML kigkonsult.se iCalcreator 2.18//
CALSCALE:GREGORIAN
METHOD:PUBLISH
X-WR-CALNAME:iCal Evangelische-Termine 24.04.2026
X-WR-CALDESC:iCalender von Evangelische-Termine (24.04.2026)
X-WR-TIMEZONE:Europe/Berlin
X-MS-OLK-FORCEINSPECTOROPEN:TRUE
BEGIN:VTIMEZONE
TZID:Europe/Berlin
BEGIN:STANDARD
DTSTART:19701025T030000
TZOFFSETFROM:+0200
TZOFFSETTO:+0100
RRULE:FREQ=YEARLY;BYDAY=-1SU;BYMONTH=10
TZNAME:CET
END:STANDARD
BEGIN:DAYLIGHT
DTSTART:19700329T020000
TZOFFSETFROM:+0100
TZOFFSETTO:+0200
RRULE:FREQ=YEARLY;BYDAY=-1SU;BYMONTH=3
TZNAME:CEST
END:DAYLIGHT
END:VTIMEZONE
BEGIN:VEVENT
UID:20210320T180000-379331@evangelische-termine.de
DTSTAMP:20260424T120126Z
DESCRIPTION:\nKurzbeschreibung: Die Vokalsolisten der Kaiser-Wilhelm-Gedäch
 tnis-Kirche\,\n\n\nJericho Brass Berlin\; Leitung: Matthias Jann\n\nWerke 
 von Schütz\, Bach\, Mendelssohn Bartholdy\n\n\nDiese Chorvesper können Sie
  am 20.3. ab 18 Uhr auf unserer...\nVeranstaltungsort: Kaiser-Wilhelm-Gedä
 chtnis-Kirche\nBreitscheidplatz\n10789 Berlin\nWeitere Informationen/Beson
 dere Hinweise: Die Vokalsolisten der Kaiser-Wilhelm-Gedächtnis-Kirche\,\n 
 \n\nJericho Brass Berlin\; Leitung: Matthias Jann \n\nWerke von Schütz\, B
 ach\, Mendelssohn Bartholdy\n \n\nDiese Chorvesper können Sie am 20.3. ab 
 18 Uhr auf unserer Homepage sehen. \n\n\n \n\nIm Wechsel mit Bachkantaten 
 und Chorvespern finden am Sonnabend um 18.00 Uhr Orgel- und Chorvespern st
 att\, in denen regelmäßig Gastorganistinnen oder Gastorganisten aus dem In
 - und Ausland konzertieren.  \n \n\n\n \n\n\n \n\nMusikalische Kategorie: 
 Chormusik\; Bläsermusik\nMitwirkende/Interpret(en): Jericho Brass und Die 
 Vokalsolisten\nInternetadresse: https://landing.churchdesk.com/de/e/669994
 1/chorvesper-nur-als-stream
DTSTART;TZID=Europe/Berlin:20210320T180000
DTEND;TZID=Europe/Berlin:20210320T190000
LOCATION:Berlin: Kaiser-Wilhelm-Gedächtnis-Kirche
SUMMARY:Chorvesper (nur als Stream)
URL:https://ekbo-termine.de/veranstaltung_im_detail379331.html
END:VEVENT
END:VCALENDAR
