BEGIN:VCALENDAR
VERSION:2.0
PRODID:-//evangelische-termine.de//NONSGML kigkonsult.se iCalcreator 2.18//
CALSCALE:GREGORIAN
METHOD:PUBLISH
X-WR-CALNAME:iCal Evangelische-Termine 22.04.2026
X-WR-CALDESC:iCalender von Evangelische-Termine (22.04.2026)
X-WR-TIMEZONE:Europe/Berlin
X-MS-OLK-FORCEINSPECTOROPEN:TRUE
BEGIN:VTIMEZONE
TZID:Europe/Berlin
BEGIN:STANDARD
DTSTART:19701025T030000
TZOFFSETFROM:+0200
TZOFFSETTO:+0100
RRULE:FREQ=YEARLY;BYDAY=-1SU;BYMONTH=10
TZNAME:CET
END:STANDARD
BEGIN:DAYLIGHT
DTSTART:19700329T020000
TZOFFSETFROM:+0100
TZOFFSETTO:+0200
RRULE:FREQ=YEARLY;BYDAY=-1SU;BYMONTH=3
TZNAME:CEST
END:DAYLIGHT
END:VTIMEZONE
BEGIN:VEVENT
UID:20210509T100000-385786@evangelische-termine.de
DTSTAMP:20260422T120116Z
DESCRIPTION:\nPfarrperson oder Gottesdienstleitung: D. Kelle\nVeranstaltung
 sort: Kirche der Anstaltskirchengemeinde Lobetal\nBodelschwinghstraße 10\n
 16321 Lobetal\nOrganist:in: U. Pienkny\nVerantwortliche:r für Kindergottes
 dienst: L. Dehn
DTSTART;TZID=Europe/Berlin:20210509T100000
DTEND;TZID=Europe/Berlin:20210509T110000
LOCATION:Lobetal: Kirche der Anstaltskirchengemeinde Lobetal
SUMMARY:Gottesdienst
URL:https://ekbo-termine.de/veranstaltung_im_detail385786.html
END:VEVENT
END:VCALENDAR
