BEGIN:VCALENDAR
VERSION:2.0
PRODID:-//evangelische-termine.de//NONSGML kigkonsult.se iCalcreator 2.18//
CALSCALE:GREGORIAN
METHOD:PUBLISH
X-WR-CALNAME:iCal Evangelische-Termine 21.04.2026
X-WR-CALDESC:iCalender von Evangelische-Termine (21.04.2026)
X-WR-TIMEZONE:Europe/Berlin
X-MS-OLK-FORCEINSPECTOROPEN:TRUE
BEGIN:VTIMEZONE
TZID:Europe/Berlin
BEGIN:STANDARD
DTSTART:19701025T030000
TZOFFSETFROM:+0200
TZOFFSETTO:+0100
RRULE:FREQ=YEARLY;BYDAY=-1SU;BYMONTH=10
TZNAME:CET
END:STANDARD
BEGIN:DAYLIGHT
DTSTART:19700329T020000
TZOFFSETFROM:+0100
TZOFFSETTO:+0200
RRULE:FREQ=YEARLY;BYDAY=-1SU;BYMONTH=3
TZNAME:CEST
END:DAYLIGHT
END:VTIMEZONE
BEGIN:VEVENT
UID:20210814T193000-389585@evangelische-termine.de
DTSTAMP:20260420T233044Z
DESCRIPTION:\nKurzbeschreibung: Singt ojf Jiddisch! - Jiddische Lieder & Ge
 schichten\nMitwirkende/Musizierende: Olaf Ruhl\, Gesang\, Gitarre und Akko
 rdeon.\nAufgeführte Werke: Eine unterhaltsame Einführung in die jiddische 
 Musik\, Sprache und Kultur\nDorfkirche: Dorfkirche Stolpe\nRegion / Landkr
 eis / Ort : Hohen Neuendorf / OT Stolpe / Landkreis Oberhavel / nördlich v
 on Berlin-Frohnau\nVeranstaltungsort: Dorfkirche Stolpe\nDorfstr. 4\n16540
  Stolpe\nS1\, S8 Hohen Neuendorf (ca. 2km Fußweg)\;\nAuto: A 111\, Abfahrt
  Stolpe\nmusikalische Kategorie: Orchester / Ensembles\; Gospel / Popmusik
  / Jazz\; Kammermusik\; Sonstiges\nEintritt: Eintritt frei\; Spenden erbet
 en\nVerköstigung: keine kulinarischen Angebote\nAnmerkungen / Weitere Hinw
 eise: → Besucherinnen und Besucher mit Symptomen\, die auf Corona hindeute
 n (Fieber\, trockener Husten\, Atembeschwerden\, Geschmacksverlust)\, oder
  die in den letzten 14 Tagen Kontakt zu einem an COVID-19 Erkrankten hatte
 n oder an einer Atemwegserkrankung leiden\, bitten wir nicht zu kommen.									\nM
 undnasenschutz und Mindestabstand während des Konzerts: \n→ bitte halten S
 ie den Mindestabstand von 1\,5m ein                              \n→ minde
 stens medizinischer Mund-Nasenschutz ist verpflichtend beim Betreten und V
 erlassen der Kirche. \n\n→ Mit einer e-mail an konzerterinnerung@dorfkirch
 estolpe.de können Sie sich für unseren Erinnerungsdienst ein- oder austrag
 en und erhalten dann vor jedem Konzert eine kurze E-Mail. In diesem Jahr e
 rhalten Sie auf diesem Weg auch leicht Informationen zu Besonderheiten bei
  den Konzerten wegen Corona.\nTelefonnummer: 03303 / 50 91 071\nE-Mail: ab
 endmusiken@dorfkirchestolpe.de\nInternetadresse: http://www.dorfkirchestol
 pe.de\nAnsprechpartner: Kantorin Gudrun Heinsius g.heinsius@kirche-berlin-
 nordost.de\nT: 0176-40701737\n: 
DTSTART;TZID=Europe/Berlin:20210814T193000
DTEND;TZID=Europe/Berlin:20210814T203000
LOCATION:Stolpe: Dorfkirche Stolpe
SUMMARY:Abendmusik in der Dorfkirche Stolpe
URL:https://ekbo-termine.de/veranstaltung_im_detail389585.html
END:VEVENT
END:VCALENDAR
