BEGIN:VCALENDAR
VERSION:2.0
PRODID:-//evangelische-termine.de//NONSGML kigkonsult.se iCalcreator 2.18//
CALSCALE:GREGORIAN
METHOD:PUBLISH
X-WR-CALNAME:iCal Evangelische-Termine 23.04.2026
X-WR-CALDESC:iCalender von Evangelische-Termine (23.04.2026)
X-WR-TIMEZONE:Europe/Berlin
X-MS-OLK-FORCEINSPECTOROPEN:TRUE
BEGIN:VTIMEZONE
TZID:Europe/Berlin
BEGIN:STANDARD
DTSTART:19701025T030000
TZOFFSETFROM:+0200
TZOFFSETTO:+0100
RRULE:FREQ=YEARLY;BYDAY=-1SU;BYMONTH=10
TZNAME:CET
END:STANDARD
BEGIN:DAYLIGHT
DTSTART:19700329T020000
TZOFFSETFROM:+0100
TZOFFSETTO:+0200
RRULE:FREQ=YEARLY;BYDAY=-1SU;BYMONTH=3
TZNAME:CEST
END:DAYLIGHT
END:VTIMEZONE
BEGIN:VEVENT
UID:20210717T160000-394784@evangelische-termine.de
DTSTAMP:20260423T064547Z
DESCRIPTION:\nKurzbeschreibung: Sommerserenade – Trio Coltello\nMitwirkende
 /Musizierende: Almuth Wiesemann – Violine\nUrsula Rinne – Viola\nPeter Lam
 precht – Violoncello\nAufgeführte Werke: Heitere klassische Streichtrios\n
 L. Boccherini\, Trio A-Dur op. 38 Nr. 1\nI. Pleyel\, Trio F-Dur opus 10 Nr
 . 3\nL. v. Beethoven\, Streichtrio D-Dur opus 9 Nr. 2\nDorfkirche: Dorfkir
 che Schönfließ\nRegion / Landkreis / Ort : Mühlenbecker Land OT Schönfließ
  / Landkreis Oberhavel / nördlich an Berlin Frohnau angrenzend\nVeranstalt
 ungsort: Dorfkirche Schönfließ\nAm Anger 5\n16567 Schönfließ\nS8 Schönflie
 ß (ca. 1 km Fußweg) oder\nBus 809 Halt Schönfließ-Kirche\nmusikalische Kat
 egorie: Orchester / Ensembles\; Kammermusik\nEintritt: Spenden erbeten\nEi
 ntrittspreis normal: Spende\nVerköstigung: keine kulinarischen Angebote\nA
 nmerkungen / Weitere Hinweise: Bitte informieren Sie sich auf der Homepage
  www.schoenfliesser-sommermusiken.de über die aktuellen Corona-Regeln vor 
 Ort.\nE-Mail: kontakt@schoenfliesser-sommermusiken.de\nInternetadresse: ht
 tp://www.schoenfliesser-sommermusiken.de/\nAnsprechpartner: Kantorin Gudru
 n Heinsius kontakt@schoenfliesser-sommermusiken.de\nTel. 03303 / 50 91 071
 \n: 
DTSTART;TZID=Europe/Berlin:20210717T160000
DTEND;TZID=Europe/Berlin:20210717T170000
LOCATION:Schönfließ: Dorfkirche Schönfließ
SUMMARY:Schönfließer Sommermusiken
URL:https://ekbo-termine.de/veranstaltung_im_detail394784.html
END:VEVENT
END:VCALENDAR
