BEGIN:VCALENDAR
VERSION:2.0
PRODID:-//evangelische-termine.de//NONSGML kigkonsult.se iCalcreator 2.18//
CALSCALE:GREGORIAN
METHOD:PUBLISH
X-WR-CALNAME:iCal Evangelische-Termine 24.04.2026
X-WR-CALDESC:iCalender von Evangelische-Termine (24.04.2026)
X-WR-TIMEZONE:Europe/Berlin
X-MS-OLK-FORCEINSPECTOROPEN:TRUE
BEGIN:VTIMEZONE
TZID:Europe/Berlin
BEGIN:STANDARD
DTSTART:19701025T030000
TZOFFSETFROM:+0200
TZOFFSETTO:+0100
RRULE:FREQ=YEARLY;BYDAY=-1SU;BYMONTH=10
TZNAME:CET
END:STANDARD
BEGIN:DAYLIGHT
DTSTART:19700329T020000
TZOFFSETFROM:+0100
TZOFFSETTO:+0200
RRULE:FREQ=YEARLY;BYDAY=-1SU;BYMONTH=3
TZNAME:CEST
END:DAYLIGHT
END:VTIMEZONE
BEGIN:VEVENT
UID:20210601T000000-397134@evangelische-termine.de
DTSTAMP:20260423T232146Z
DESCRIPTION:\nKurzbeschreibung: Altes und Neues auf Berliner Friedhöfen – M
 ach mit beim Fotowettbewerb!\nVeranstaltungsort: Berliner Friedhöfe\n10000
  Berlin\nWeitere Informationen/Besondere Hinweise: Altes und Neues auf Ber
 liner Friedhöfen – Mach mit beim Fotowettbewerb!\nLade Deine Bilder bis zu
 m 25.07.2021 auf meinkiez-meinfriedhof.de/foto hoch und freu Dich auf die 
 Ausstellung der besten Bilder zum Tag des Friedhofs am 19.09.2021.\nJede P
 erson kann maximal fünf Bilder hochladen und nur einmal abstimmen. \nAlle 
 können abstimmen. Die besten Bilder werden zum Tag des Friedhofs am 19.09.
 2021 präsentiert. Bitte achte darauf\, dass auf Friedhöfen Menschen trauer
 n und Abschied nehmen. Nimm also Rücksicht auf Trauernde und versichere di
 ch\, wenn Personen auf Deinen Fotos abgebildet sind\, dass diese ihr Einve
 rständnis dazu geben.\n\nMehr Infos beim Veranstalter des Wettbewerbs: unt
 er meinkiez-meinfriedhof.de (Senatsverwaltung für Umwelt\, Verkehr und Kli
 maschutz / STATTBAU Stadtentwicklungsgesellschaft mbH)\nInternetadresse: h
 ttps://www.meinkiez-meinfriedhof.berlin.de/foto
DTSTART;VALUE=DATE:20210601
DTEND;VALUE=DATE:20210816
LOCATION:Berlin: Berliner Friedhöfe
RRULE:FREQ=DAILY;UNTIL=20210815T235900Z;INTERVAL=1;WKST=SU
SUMMARY:Fotowettbewerb (01.06.-15.08.2021)
URL:https://ekbo-termine.de/veranstaltung_im_detail397134.html
END:VEVENT
END:VCALENDAR
