BEGIN:VCALENDAR
VERSION:2.0
PRODID:-//evangelische-termine.de//NONSGML kigkonsult.se iCalcreator 2.18//
CALSCALE:GREGORIAN
METHOD:PUBLISH
X-WR-CALNAME:iCal Evangelische-Termine 23.04.2026
X-WR-CALDESC:iCalender von Evangelische-Termine (23.04.2026)
X-WR-TIMEZONE:Europe/Berlin
X-MS-OLK-FORCEINSPECTOROPEN:TRUE
BEGIN:VTIMEZONE
TZID:Europe/Berlin
BEGIN:STANDARD
DTSTART:19701025T030000
TZOFFSETFROM:+0200
TZOFFSETTO:+0100
RRULE:FREQ=YEARLY;BYDAY=-1SU;BYMONTH=10
TZNAME:CET
END:STANDARD
BEGIN:DAYLIGHT
DTSTART:19700329T020000
TZOFFSETFROM:+0100
TZOFFSETTO:+0200
RRULE:FREQ=YEARLY;BYDAY=-1SU;BYMONTH=3
TZNAME:CEST
END:DAYLIGHT
END:VTIMEZONE
BEGIN:VEVENT
UID:20210919T103000-398491@evangelische-termine.de
DTSTAMP:20260423T094905Z
DESCRIPTION:\nKurzbeschreibung: Gottesdienst\nPfarrperson oder Gottesdienst
 leitung: Pelk\nVeranstaltungsort: Lutherstift Frankfurt (Oder)\nHeinrich-H
 ildebrand-Straße 22\n15232 Frankfurt (Oder)
DTSTART;TZID=Europe/Berlin:20210919T103000
DTEND;TZID=Europe/Berlin:20210919T113000
LOCATION:Frankfurt (Oder): Lutherstift Frankfurt (Oder)
SUMMARY:Gottesdienst
URL:https://ekbo-termine.de/veranstaltung_im_detail398491.html
END:VEVENT
END:VCALENDAR
