BEGIN:VCALENDAR
VERSION:2.0
PRODID:-//evangelische-termine.de//NONSGML kigkonsult.se iCalcreator 2.18//
CALSCALE:GREGORIAN
METHOD:PUBLISH
X-WR-CALNAME:iCal Evangelische-Termine 26.04.2026
X-WR-CALDESC:iCalender von Evangelische-Termine (26.04.2026)
X-WR-TIMEZONE:Europe/Berlin
X-MS-OLK-FORCEINSPECTOROPEN:TRUE
BEGIN:VTIMEZONE
TZID:Europe/Berlin
BEGIN:STANDARD
DTSTART:19701025T030000
TZOFFSETFROM:+0200
TZOFFSETTO:+0100
RRULE:FREQ=YEARLY;BYDAY=-1SU;BYMONTH=10
TZNAME:CET
END:STANDARD
BEGIN:DAYLIGHT
DTSTART:19700329T020000
TZOFFSETFROM:+0100
TZOFFSETTO:+0200
RRULE:FREQ=YEARLY;BYDAY=-1SU;BYMONTH=3
TZNAME:CEST
END:DAYLIGHT
END:VTIMEZONE
BEGIN:VEVENT
UID:20211031T133000-414743@evangelische-termine.de
DTSTAMP:20260426T020318Z
DESCRIPTION:\nKurzbeschreibung: Ein Gottesdienst an drei Orten: Wir feiern 
 den Reformationstag nacheinander miteinander in der Evangeliumsgemeinde\, 
 der Luther-Gemeinde und in der Segensgemeinde\nPfarrperson oder Gottesdien
 stleitung: Margareta Trende\, Michaela Markgraf\, Sven Lambert\, Ina Lambe
 rt\nVeranstaltungsort: EVA\, ELKAR\, SEGEN\n13407 Berlin\nWeitere Informat
 ionen/Besondere Hinweise: Unsere Feier des Reformationstages erstreckt sic
 h über drei verschiedene Orte: Beginn ist ein Gottesdienst um 13.30 Uhr in
  der Evangeliumsgemeinde am Hausotterplatz\; ca. 14.40 Uhr geht es weiter 
 in die Luther-Gemeinde in der Baseler Straße und der Abschluss wird ca. 16
 .00  Uhr in der Segensgemeinde in der Auguste-Viktoria-Allee gefeiert. Man
  kann alle drei Orte besuchen oder unterwegs dazu stoßen.\nInternetadresse
 : https://elkar.de\nAnsprechperson: Pfarrerin Michaela Markgraf michaela.m
 arkgraf@elkar.de
DTSTART;TZID=Europe/Berlin:20211031T133000
DTEND;TZID=Europe/Berlin:20211031T170000
LOCATION:Berlin: EVA\, ELKAR\, SEGEN
SUMMARY:Regionaler Stationen-Gottesdienst zum Reformationstag
URL:https://ekbo-termine.de/veranstaltung_im_detail414743.html
END:VEVENT
END:VCALENDAR
