BEGIN:VCALENDAR
VERSION:2.0
PRODID:-//evangelische-termine.de//NONSGML kigkonsult.se iCalcreator 2.18//
CALSCALE:GREGORIAN
METHOD:PUBLISH
X-WR-CALNAME:iCal Evangelische-Termine 25.04.2026
X-WR-CALDESC:iCalender von Evangelische-Termine (25.04.2026)
X-WR-TIMEZONE:Europe/Berlin
X-MS-OLK-FORCEINSPECTOROPEN:TRUE
BEGIN:VTIMEZONE
TZID:Europe/Berlin
BEGIN:STANDARD
DTSTART:19701025T030000
TZOFFSETFROM:+0200
TZOFFSETTO:+0100
RRULE:FREQ=YEARLY;BYDAY=-1SU;BYMONTH=10
TZNAME:CET
END:STANDARD
BEGIN:DAYLIGHT
DTSTART:19700329T020000
TZOFFSETFROM:+0100
TZOFFSETTO:+0200
RRULE:FREQ=YEARLY;BYDAY=-1SU;BYMONTH=3
TZNAME:CEST
END:DAYLIGHT
END:VTIMEZONE
BEGIN:VEVENT
UID:20211206T193000-415339@evangelische-termine.de
DTSTAMP:20260425T033404Z
DESCRIPTION:\nKurzbeschreibung: St. Nikolaus in Zehlendorf\nVeranstaltungso
 rt: Emmaus-Kirchengemeinde\nOnkel-Tom-Straße 80\n14169 Berlin\nWeitere Inf
 ormationen/Besondere Hinweise: Die Veranstaltung findet unter der 2G-Regel
  statt. Zutritt haben nur Geimpfte und Genesene. Ausgenommen sind Kinder b
 is zum 18. Lebensjahr\, die ab 6 Jahren negativ getestet sein müssen. Es d
 ürfen maximal 150 Personen erscheinen und wir bitten Sie\, sich vorher übe
 r das Rückmeldeformular anzumelden.\nMusikalische Kategorie: Gospel / Popm
 usik / Jazz\nAufgeführte Werke: Crocodile Princess Jazz Orchestra\n16 Krok
 odile und 3 Prinzessinnen spielen \nSwing\, Latin\, Soul und Filmmusik\n\n
 In der Tradition der großen Jazzorchester präsentiert sich eine neunzehnkö
 pfige Big Band \nmit eigener Sängerin als Highlight jeder Show. \nSeit 201
 2 füllt die Stimme von Charlotte Nörenberg (geb. Sinell) diese Position au
 s. Unter \nder Leitung des international anerkannten \nSaxophonisten und B
 andleaders Dietrich Koch \nspielt das Crocodile Princess Jazz Orchestra \n
 nicht nur für Jazz-Fans sondern für alle\, die \nSpaß am großen Sound und 
 professioneller \nPerformance haben.\nFür das Weihnachtskonzert hat die Ba
 nd eine \nstimmungsvolle Mischung aus besinnlichen \nBalladen\, swingenden
  Christmas-Songs und \ntraditionellen Weihnachtsliedern zusammengestellt.
 \nMitwirkende/Interpret(en): Crocodile Princess Jazz Orchestra\n: 
DTSTART;TZID=Europe/Berlin:20211206T193000
DTEND;TZID=Europe/Berlin:20211206T203000
LOCATION:Berlin: Emmaus-Kirchengemeinde
SUMMARY:Konzert Crocodile Princess Jazz Orchestra 2G
URL:https://ekbo-termine.de/veranstaltung_im_detail415339.html
END:VEVENT
END:VCALENDAR
