BEGIN:VCALENDAR
VERSION:2.0
PRODID:-//evangelische-termine.de//NONSGML kigkonsult.se iCalcreator 2.18//
CALSCALE:GREGORIAN
METHOD:PUBLISH
X-WR-CALNAME:iCal Evangelische-Termine 22.04.2026
X-WR-CALDESC:iCalender von Evangelische-Termine (22.04.2026)
X-WR-TIMEZONE:Europe/Berlin
X-MS-OLK-FORCEINSPECTOROPEN:TRUE
BEGIN:VTIMEZONE
TZID:Europe/Berlin
BEGIN:STANDARD
DTSTART:19701025T030000
TZOFFSETFROM:+0200
TZOFFSETTO:+0100
RRULE:FREQ=YEARLY;BYDAY=-1SU;BYMONTH=10
TZNAME:CET
END:STANDARD
BEGIN:DAYLIGHT
DTSTART:19700329T020000
TZOFFSETFROM:+0100
TZOFFSETTO:+0200
RRULE:FREQ=YEARLY;BYDAY=-1SU;BYMONTH=3
TZNAME:CEST
END:DAYLIGHT
END:VTIMEZONE
BEGIN:VEVENT
UID:20211219T100000-421346@evangelische-termine.de
DTSTAMP:20260422T013752Z
DESCRIPTION:\nPfarrperson oder Gottesdienstleitung: Prädikantin Frau Matthi
 es\nVeranstaltungsort: Ev. Kirche Großbeeren\nRuhlsdorfer Straße 2\n14979 
 Großbeeren\nBus 710\nKürzel für Gottesdienste:  mKigo = mit Kindergottesdi
 enst (parallel zum Gottesdienst)\nWeitere Informationen/Besondere Hinweise
 : in den Gottesdiensten muss eine FFP 2 - Maske getragen werden
DTSTART;TZID=Europe/Berlin:20211219T100000
DTEND;TZID=Europe/Berlin:20211219T110000
LOCATION:Großbeeren: Ev. Kirche Großbeeren
SUMMARY:Gottesdienst mit Kinderkirche
URL:https://ekbo-termine.de/veranstaltung_im_detail421346.html
END:VEVENT
END:VCALENDAR
