BEGIN:VCALENDAR
VERSION:2.0
PRODID:-//evangelische-termine.de//NONSGML kigkonsult.se iCalcreator 2.18//
CALSCALE:GREGORIAN
METHOD:PUBLISH
X-WR-CALNAME:iCal Evangelische-Termine 20.04.2026
X-WR-CALDESC:iCalender von Evangelische-Termine (20.04.2026)
X-WR-TIMEZONE:Europe/Berlin
X-MS-OLK-FORCEINSPECTOROPEN:TRUE
BEGIN:VTIMEZONE
TZID:Europe/Berlin
BEGIN:STANDARD
DTSTART:19701025T030000
TZOFFSETFROM:+0200
TZOFFSETTO:+0100
RRULE:FREQ=YEARLY;BYDAY=-1SU;BYMONTH=10
TZNAME:CET
END:STANDARD
BEGIN:DAYLIGHT
DTSTART:19700329T020000
TZOFFSETFROM:+0100
TZOFFSETTO:+0200
RRULE:FREQ=YEARLY;BYDAY=-1SU;BYMONTH=3
TZNAME:CEST
END:DAYLIGHT
END:VTIMEZONE
BEGIN:VEVENT
UID:20211224T200000-425294@evangelische-termine.de
DTSTAMP:20260420T070341Z
DESCRIPTION:\nPfarrperson oder Gottesdienstleitung: Pfarrer Martin Germer\n
 Veranstaltungsort: Kaiser-Wilhelm-Gedächtnis-Kirche\nBreitscheidplatz\n107
 89 Berlin\nWeitere Informationen/Besondere Hinweise: Pfarrer Martin Germer
 \nUwe Steinmetz (Sax)\, Helmut Hoeft (Orgel) \n\n \nEinlass ca. 19.30 Uhr 
 \n\nBitte melden Sie sich bis 23.12. für diesen Gottesdienst an.\nInternet
 adresse: http://www.gedaechtniskirche-berlin.de/event/3912445
DTSTART;TZID=Europe/Berlin:20211224T200000
DTEND;TZID=Europe/Berlin:20211224T210000
LOCATION:Berlin: Kaiser-Wilhelm-Gedächtnis-Kirche
SUMMARY:Christvesper
URL:https://ekbo-termine.de/veranstaltung_im_detail425294.html
END:VEVENT
END:VCALENDAR
