BEGIN:VCALENDAR
VERSION:2.0
PRODID:-//evangelische-termine.de//NONSGML kigkonsult.se iCalcreator 2.18//
CALSCALE:GREGORIAN
METHOD:PUBLISH
X-WR-CALNAME:iCal Evangelische-Termine 23.04.2026
X-WR-CALDESC:iCalender von Evangelische-Termine (23.04.2026)
X-WR-TIMEZONE:Europe/Berlin
X-MS-OLK-FORCEINSPECTOROPEN:TRUE
BEGIN:VTIMEZONE
TZID:Europe/Berlin
BEGIN:STANDARD
DTSTART:19701025T030000
TZOFFSETFROM:+0200
TZOFFSETTO:+0100
RRULE:FREQ=YEARLY;BYDAY=-1SU;BYMONTH=10
TZNAME:CET
END:STANDARD
BEGIN:DAYLIGHT
DTSTART:19700329T020000
TZOFFSETFROM:+0100
TZOFFSETTO:+0200
RRULE:FREQ=YEARLY;BYDAY=-1SU;BYMONTH=3
TZNAME:CEST
END:DAYLIGHT
END:VTIMEZONE
BEGIN:VEVENT
UID:20211205T170000-427614@evangelische-termine.de
DTSTAMP:20260422T234358Z
DESCRIPTION:\nKurzbeschreibung: musikalische Andacht\nVeranstaltungsort: St
 adtkirche St. Peter und Paul\n02826 Görlitz\nWeitere Informationen/Besonde
 re Hinweise: Vorkurrende\, Kurrende und Kantorei der Evangelischen Innenst
 adtgemeinde\nPaul Kirbis - Orgel\nBläserensemble\nMusikalische Leitung: KM
 D Reinhard Seeliger\nLiturg: Pfarrer Dr. Matthias Paul\nMusikalische Kateg
 orie: Chormusik\; Orgelmusik\nEintritt: frei - Spenden für die Kirchenmusi
 k erbeten\nInternetadresse: http://www.innenstadtgemeinde-evangelisch-goer
 litz.de\nAnsprechperson: KMD i.R. Reinhard Seeliger seeliger.goerlitz@gmai
 l.com
DTSTART;TZID=Europe/Berlin:20211205T170000
DTEND;TZID=Europe/Berlin:20211205T180000
LOCATION:Görlitz: Stadtkirche St. Peter und Paul
SUMMARY:Adventsmusik zum Hören und Mitsingen
URL:https://ekbo-termine.de/veranstaltung_im_detail427614.html
END:VEVENT
END:VCALENDAR
