BEGIN:VCALENDAR
VERSION:2.0
PRODID:-//evangelische-termine.de//NONSGML kigkonsult.se iCalcreator 2.18//
CALSCALE:GREGORIAN
METHOD:PUBLISH
X-WR-CALNAME:iCal Evangelische-Termine 22.04.2026
X-WR-CALDESC:iCalender von Evangelische-Termine (22.04.2026)
X-WR-TIMEZONE:Europe/Berlin
X-MS-OLK-FORCEINSPECTOROPEN:TRUE
BEGIN:VTIMEZONE
TZID:Europe/Berlin
BEGIN:STANDARD
DTSTART:19701025T030000
TZOFFSETFROM:+0200
TZOFFSETTO:+0100
RRULE:FREQ=YEARLY;BYDAY=-1SU;BYMONTH=10
TZNAME:CET
END:STANDARD
BEGIN:DAYLIGHT
DTSTART:19700329T020000
TZOFFSETFROM:+0100
TZOFFSETTO:+0200
RRULE:FREQ=YEARLY;BYDAY=-1SU;BYMONTH=3
TZNAME:CEST
END:DAYLIGHT
END:VTIMEZONE
BEGIN:VEVENT
UID:20220509T055000-461437@evangelische-termine.de
DTSTAMP:20260422T052124Z
DESCRIPTION:\nKurzbeschreibung: Rund zwei Minuten Andacht am frühen Morgen:
  für Lebensmut und Inspiration\nVeranstaltungsort: rbb 88\,8\n Berlin\nWei
 tere Informationen/Besondere Hinweise: Mo-Sa 6.45 Uhr auf rbb Kultur\nMo-S
 a 9.12 Uhr auf Antenne Brandenburg\nInternetadresse: https://rundfunkdiens
 t.ekbo.de/radio/worte-fuer-den-tag-rbb-888.html
DTSTART;TZID=Europe/Berlin:20220509T055000
DTEND;TZID=Europe/Berlin:20220514T065000
LOCATION:Berlin: rbb 88\,8
SUMMARY:Worte für den Tag - Worte auf den Weg: Juliane Rumpel
URL:https://ekbo-termine.de/veranstaltung_im_detail461437.html
END:VEVENT
END:VCALENDAR
