BEGIN:VCALENDAR
VERSION:2.0
PRODID:-//evangelische-termine.de//NONSGML kigkonsult.se iCalcreator 2.18//
CALSCALE:GREGORIAN
METHOD:PUBLISH
X-WR-CALNAME:iCal Evangelische-Termine 21.04.2026
X-WR-CALDESC:iCalender von Evangelische-Termine (21.04.2026)
X-WR-TIMEZONE:Europe/Berlin
X-MS-OLK-FORCEINSPECTOROPEN:TRUE
BEGIN:VTIMEZONE
TZID:Europe/Berlin
BEGIN:STANDARD
DTSTART:19701025T030000
TZOFFSETFROM:+0200
TZOFFSETTO:+0100
RRULE:FREQ=YEARLY;BYDAY=-1SU;BYMONTH=10
TZNAME:CET
END:STANDARD
BEGIN:DAYLIGHT
DTSTART:19700329T020000
TZOFFSETFROM:+0100
TZOFFSETTO:+0200
RRULE:FREQ=YEARLY;BYDAY=-1SU;BYMONTH=3
TZNAME:CEST
END:DAYLIGHT
END:VTIMEZONE
BEGIN:VEVENT
UID:20220828T170000-464743@evangelische-termine.de
DTSTAMP:20260421T055132Z
DESCRIPTION:\nVeranstaltungsort: St. Peter und Paul auf Nikolskoe\nNikolsko
 er Weg 17\n14109 Berlin\nBVG-Buslinie 218 bis Endstation 'Pfaueninsel' + c
 a. 750 m Fußweg\nMusikalische Kategorie: Kammermusik\nAufgeführte Werke: W
 erke von A. Marcello\, F. Schubert\, A. Piazzolla\, G. Cassadó\, I. Albéni
 z\nMitwirkende/Interpret(en): Uwe Hirth-Schmidt – Cello\nVitaly Schall – G
 itarre\nEintritt: frei
DTSTART;TZID=Europe/Berlin:20220828T170000
DTEND;TZID=Europe/Berlin:20220828T180000
LOCATION:Berlin: St. Peter und Paul auf Nikolskoe
SUMMARY:Gitarre und Cello
URL:https://ekbo-termine.de/veranstaltung_im_detail464743.html
END:VEVENT
END:VCALENDAR
