BEGIN:VCALENDAR
VERSION:2.0
PRODID:-//evangelische-termine.de//NONSGML kigkonsult.se iCalcreator 2.18//
CALSCALE:GREGORIAN
METHOD:PUBLISH
X-WR-CALNAME:iCal Evangelische-Termine 19.04.2026
X-WR-CALDESC:iCalender von Evangelische-Termine (19.04.2026)
X-WR-TIMEZONE:Europe/Berlin
X-MS-OLK-FORCEINSPECTOROPEN:TRUE
BEGIN:VTIMEZONE
TZID:Europe/Berlin
BEGIN:STANDARD
DTSTART:19701025T030000
TZOFFSETFROM:+0200
TZOFFSETTO:+0100
RRULE:FREQ=YEARLY;BYDAY=-1SU;BYMONTH=10
TZNAME:CET
END:STANDARD
BEGIN:DAYLIGHT
DTSTART:19700329T020000
TZOFFSETFROM:+0100
TZOFFSETTO:+0200
RRULE:FREQ=YEARLY;BYDAY=-1SU;BYMONTH=3
TZNAME:CEST
END:DAYLIGHT
END:VTIMEZONE
BEGIN:VEVENT
UID:20230219T103000-513164@evangelische-termine.de
DTSTAMP:20260419T190426Z
DESCRIPTION:\nKurzbeschreibung: Gottesdienst mit Agapemahl und Abschluss de
 r Ök. Bibelwoche\nPfarrperson oder Gottesdienstleitung: Sup. Frank Schürer
 -Behrmann und Team\nVeranstaltungsort: St.-Gertraud-Kirche Frankfurt (Oder
 )\nGertraudenplatz 6\n15230 Frankfurt (Oder)\nKürzel für Gottesdienste:  A
 g = Agape \;  mKigo = mit Kindergottesdienst (parallel zum Gottesdienst)
DTSTART;TZID=Europe/Berlin:20230219T103000
DTEND;TZID=Europe/Berlin:20230219T120000
LOCATION:Frankfurt (Oder): St.-Gertraud-Kirche Frankfurt (Oder)
SUMMARY:Gottesdienst mit Agapemahl und Abschluss der Ök. Bibelwoche
URL:https://ekbo-termine.de/veranstaltung_im_detail513164.html
END:VEVENT
END:VCALENDAR
