BEGIN:VCALENDAR
VERSION:2.0
PRODID:-//evangelische-termine.de//NONSGML kigkonsult.se iCalcreator 2.18//
CALSCALE:GREGORIAN
METHOD:PUBLISH
X-WR-CALNAME:iCal Evangelische-Termine 22.04.2026
X-WR-CALDESC:iCalender von Evangelische-Termine (22.04.2026)
X-WR-TIMEZONE:Europe/Berlin
X-MS-OLK-FORCEINSPECTOROPEN:TRUE
BEGIN:VTIMEZONE
TZID:Europe/Berlin
BEGIN:STANDARD
DTSTART:19701025T030000
TZOFFSETFROM:+0200
TZOFFSETTO:+0100
RRULE:FREQ=YEARLY;BYDAY=-1SU;BYMONTH=10
TZNAME:CET
END:STANDARD
BEGIN:DAYLIGHT
DTSTART:19700329T020000
TZOFFSETFROM:+0100
TZOFFSETTO:+0200
RRULE:FREQ=YEARLY;BYDAY=-1SU;BYMONTH=3
TZNAME:CEST
END:DAYLIGHT
END:VTIMEZONE
BEGIN:VEVENT
UID:20240401T103000-604782@evangelische-termine.de
DTSTAMP:20260422T200841Z
DESCRIPTION:\nKurzbeschreibung: Gesprächsgottesdienst\nPfarrperson oder Got
 tesdienstleitung: Pf. Grützmann\nVeranstaltungsort: Theodor-Fliedner-Heim 
 Mahlsdorf-Süd\nSchrobsdorffstr. 35 / 36\n12623 Berlin\nhttp://kirche-mahls
 dorf.de/standorte/theodor-fliedner-heim\nS5 bis Mahlsdorf\, dann Straßenba
 hn 62 Richtung Wendenschloss bis Bütower Straße oder S3 bis Köpenick\, dan
 n Straßenbahn 62 Richtung S-Mahlsdorf bis Erich-Baron-Weg
DTSTART;TZID=Europe/Berlin:20240401T103000
DTEND;TZID=Europe/Berlin:20240401T113000
LOCATION:Berlin: Theodor-Fliedner-Heim Mahlsdorf-Süd
SUMMARY:Gottesdienst
URL:https://ekbo-termine.de/veranstaltung_im_detail604782.html
END:VEVENT
END:VCALENDAR
