BEGIN:VCALENDAR
VERSION:2.0
PRODID:-//evangelische-termine.de//NONSGML kigkonsult.se iCalcreator 2.18//
CALSCALE:GREGORIAN
METHOD:PUBLISH
X-WR-CALNAME:iCal Evangelische-Termine 23.04.2026
X-WR-CALDESC:iCalender von Evangelische-Termine (23.04.2026)
X-WR-TIMEZONE:Europe/Berlin
X-MS-OLK-FORCEINSPECTOROPEN:TRUE
BEGIN:VTIMEZONE
TZID:Europe/Berlin
BEGIN:STANDARD
DTSTART:19701025T030000
TZOFFSETFROM:+0200
TZOFFSETTO:+0100
RRULE:FREQ=YEARLY;BYDAY=-1SU;BYMONTH=10
TZNAME:CET
END:STANDARD
BEGIN:DAYLIGHT
DTSTART:19700329T020000
TZOFFSETFROM:+0100
TZOFFSETTO:+0200
RRULE:FREQ=YEARLY;BYDAY=-1SU;BYMONTH=3
TZNAME:CEST
END:DAYLIGHT
END:VTIMEZONE
BEGIN:VEVENT
UID:20241013T180000-615999@evangelische-termine.de
DTSTAMP:20260423T150406Z
DESCRIPTION:\nKurzbeschreibung: Dorfkirche Wünsdorf\nMitwirkende/Musizieren
 de: Andreas Kaiser (Akkordeon)  u. Gastmusiker\nDorfkirche: Wünsdorf\nRegi
 on / Landkreis / Ort : Wünsdorf\, Landkreis Teltow-Fläming\nVeranstaltungs
 ort: Dorfkirche Wünsdorf\nAm Kirchplatz\n15806 Zossen\, OT Wünsdorf\nmusik
 alische Kategorie: Orgelmusik\; Sonstiges\nEintritt: Eintritt frei\; Spend
 en erbeten\nAnmerkungen / Weitere Hinweise: Orgel plus Gastmusiker
DTSTART;TZID=Europe/Berlin:20241013T180000
DTEND;TZID=Europe/Berlin:20241013T190000
LOCATION:Zossen\, OT Wünsdorf: Dorfkirche Wünsdorf
SUMMARY:OrgelPlus - Konzert
URL:https://ekbo-termine.de/veranstaltung_im_detail615999.html
END:VEVENT
END:VCALENDAR
