BEGIN:VCALENDAR
VERSION:2.0
PRODID:-//evangelische-termine.de//NONSGML kigkonsult.se iCalcreator 2.18//
CALSCALE:GREGORIAN
METHOD:PUBLISH
X-WR-CALNAME:iCal Evangelische-Termine 21.04.2026
X-WR-CALDESC:iCalender von Evangelische-Termine (21.04.2026)
X-WR-TIMEZONE:Europe/Berlin
X-MS-OLK-FORCEINSPECTOROPEN:TRUE
BEGIN:VTIMEZONE
TZID:Europe/Berlin
BEGIN:STANDARD
DTSTART:19701025T030000
TZOFFSETFROM:+0200
TZOFFSETTO:+0100
RRULE:FREQ=YEARLY;BYDAY=-1SU;BYMONTH=10
TZNAME:CET
END:STANDARD
BEGIN:DAYLIGHT
DTSTART:19700329T020000
TZOFFSETFROM:+0100
TZOFFSETTO:+0200
RRULE:FREQ=YEARLY;BYDAY=-1SU;BYMONTH=3
TZNAME:CEST
END:DAYLIGHT
END:VTIMEZONE
BEGIN:VEVENT
UID:20240906T000000-616580@evangelische-termine.de
DTSTAMP:20260421T080444Z
DESCRIPTION:\nVeranstaltungsort: Ev. Kirche Schleife\nFriedensstraße 66\n02
 959 Schleife\nTelefon: 035773 76 211\; E-Mai: kirchenbuero@ev-kg-schleife.
 de\; www.ev-kg-schleife.de\; www.facebook.com/Ev.KirchengemeindeSchleife\;
   Öffnungszeiten des Gemeindebüro: Dienstag 09.00 - 12.00 Uhr\, Donnerstag
  15.00 - 18.00 Uhr und nach Vereinbarung\; Bahnanbindung:  Auf der Bahnstr
 ecke Cottbus - Görlitz liegt der Bahnhof Schleife.\nWeitere Informationen/
 Besondere Hinweise: Die Ausstellung „Alles im Fluss!? - Wasser in der Kris
 e“ des  Heinrich-Böll-Stiftungsverbunds ist bis zum 20.10.2024 täglich von
  9.00 Uhr bis 18.00 Uhr in der Schleifer Kirche zu sehen.\nAuf dreizehn In
 fotafeln werden anschaulich die Zusammenhänge von Klima- und Wasserkrise s
 owie des Wirtschaftens und der Verfügbarkeit bzw. der Verschmutzung unsere
 s Wassers dargestellt. Das drastische Wechselspiel aus extremer Trockenhei
 t sowie sintflutartigen Niederschlägen in den letzten Jahren zeigt\, dass 
 die Klimakrise auch eine Wasserkrise zur Folge hat.\nNeben der Problemanal
 yse beschreibt die Ausstellung auch Handlungsanforderungen an kommunale Ve
 rantwortungsträger und ermuntert zum Umdenken im privaten Bereich.\nwww.we
 iterdenken.de/wasserausstellung\nEintritt: Eintritt frei.\nInternetadresse
 : https://www.ev-kg-schleife.de/
DTSTART;VALUE=DATE:20240906
DTEND;VALUE=DATE:20241021
LOCATION:Schleife: Ev. Kirche Schleife
SUMMARY:Ausstellung: Alles im Fluss!? - Wasser in der Krise
URL:https://ekbo-termine.de/veranstaltung_im_detail616580.html
END:VEVENT
END:VCALENDAR
