BEGIN:VCALENDAR
VERSION:2.0
PRODID:-//evangelische-termine.de//NONSGML kigkonsult.se iCalcreator 2.18//
CALSCALE:GREGORIAN
METHOD:PUBLISH
X-WR-CALNAME:iCal Evangelische-Termine 23.04.2026
X-WR-CALDESC:iCalender von Evangelische-Termine (23.04.2026)
X-WR-TIMEZONE:Europe/Berlin
X-MS-OLK-FORCEINSPECTOROPEN:TRUE
BEGIN:VTIMEZONE
TZID:Europe/Berlin
BEGIN:STANDARD
DTSTART:19701025T030000
TZOFFSETFROM:+0200
TZOFFSETTO:+0100
RRULE:FREQ=YEARLY;BYDAY=-1SU;BYMONTH=10
TZNAME:CET
END:STANDARD
BEGIN:DAYLIGHT
DTSTART:19700329T020000
TZOFFSETFROM:+0100
TZOFFSETTO:+0200
RRULE:FREQ=YEARLY;BYDAY=-1SU;BYMONTH=3
TZNAME:CEST
END:DAYLIGHT
END:VTIMEZONE
BEGIN:VEVENT
UID:20240526T180000-618006@evangelische-termine.de
DTSTAMP:20260423T202738Z
DESCRIPTION:\nKurzbeschreibung: Konzert mit Streichquartett\nVeranstaltungs
 ort: St. Annen-Kirche Dahlem\nKönigin-Luise-Straße 55\n14195 Berlin\nU Dah
 lem-Dorf\; Bus 110\, 183\, X11\, X83\nWeitere Informationen/Besondere Hinw
 eise: Das Finsterbusch-Trio und Christine Kessler nähern sich Bachs vielsc
 hichtigem Meisterwerk auf neue\, unerwartete Weise.\nIm farbigen Wechselsp
 iel zwischen Cembalo- und Streicherklang entstehen überraschende Klangräum
 e.\nMusikalische Kategorie: Kammermusik\nAufgeführte Werke: Johann Sebasti
 an Bach - Die Goldbergvariationen\nMitwirkende/Interpret(en): Christine Ke
 ssler (Cembalo)\, Andreas Finsterbusch(Violine)\, Christoph Starke( Viola)
 \, Christoph Bachmann (Violoncello)\nEintritt: Eintritt frei - Spenden erb
 eten
DTSTART;TZID=Europe/Berlin:20240526T180000
DTEND;TZID=Europe/Berlin:20240526T191500
LOCATION:Berlin: St. Annen-Kirche Dahlem
SUMMARY:Johann Sebastian Bach - Die Goldbergvariationen
URL:https://ekbo-termine.de/veranstaltung_im_detail618006.html
END:VEVENT
END:VCALENDAR
