BEGIN:VCALENDAR
VERSION:2.0
PRODID:-//evangelische-termine.de//NONSGML kigkonsult.se iCalcreator 2.18//
CALSCALE:GREGORIAN
METHOD:PUBLISH
X-WR-CALNAME:iCal Evangelische-Termine 23.04.2026
X-WR-CALDESC:iCalender von Evangelische-Termine (23.04.2026)
X-WR-TIMEZONE:Europe/Berlin
X-MS-OLK-FORCEINSPECTOROPEN:TRUE
BEGIN:VTIMEZONE
TZID:Europe/Berlin
BEGIN:STANDARD
DTSTART:19701025T030000
TZOFFSETFROM:+0200
TZOFFSETTO:+0100
RRULE:FREQ=YEARLY;BYDAY=-1SU;BYMONTH=10
TZNAME:CET
END:STANDARD
BEGIN:DAYLIGHT
DTSTART:19700329T020000
TZOFFSETFROM:+0100
TZOFFSETTO:+0200
RRULE:FREQ=YEARLY;BYDAY=-1SU;BYMONTH=3
TZNAME:CEST
END:DAYLIGHT
END:VTIMEZONE
BEGIN:VEVENT
UID:20240901T110000-622029@evangelische-termine.de
DTSTAMP:20260423T131752Z
DESCRIPTION:\nKurzbeschreibung: mit anschließendem Kirchencafé\nPfarrperson
  oder Gottesdienstleitung: Pfarrerin Schönfeld\nVeranstaltungsort: Jeremia
 kirche\nSiegener Str. 52\n13583 Berlin\nBus M37\, 137\, X37 von Bahnhof Sp
 andau bis Westerwaldstraße\nKürzel für Gottesdienste:  Mu = musikalischer 
 Gottesdienst \;  Reg = Regionalgottesdienst \nWeitere Informationen/Besond
 ere Hinweise: Birgitta Flick (Tenorsaxophon)\nFranz Bauer (Vibraphon)\nInt
 ernetadresse: http://www.zuflucht-jeremia-gemeinde.de\nAnsprechperson: Ing
 rid Lawrenz lawrenz@zuflucht-jeremia-gemeinde.de\nTel.: 030-375 87 275
DTSTART;TZID=Europe/Berlin:20240901T110000
DTEND;TZID=Europe/Berlin:20240901T120000
LOCATION:Berlin: Jeremiakirche
SUMMARY:Regionaler Jazz-Gottesdienst
URL:https://ekbo-termine.de/veranstaltung_im_detail622029.html
END:VEVENT
END:VCALENDAR
