BEGIN:VCALENDAR
VERSION:2.0
PRODID:-//evangelische-termine.de//NONSGML kigkonsult.se iCalcreator 2.18//
CALSCALE:GREGORIAN
METHOD:PUBLISH
X-WR-CALNAME:iCal Evangelische-Termine 25.04.2026
X-WR-CALDESC:iCalender von Evangelische-Termine (25.04.2026)
X-WR-TIMEZONE:Europe/Berlin
X-MS-OLK-FORCEINSPECTOROPEN:TRUE
BEGIN:VTIMEZONE
TZID:Europe/Berlin
BEGIN:STANDARD
DTSTART:19701025T030000
TZOFFSETFROM:+0200
TZOFFSETTO:+0100
RRULE:FREQ=YEARLY;BYDAY=-1SU;BYMONTH=10
TZNAME:CET
END:STANDARD
BEGIN:DAYLIGHT
DTSTART:19700329T020000
TZOFFSETFROM:+0100
TZOFFSETTO:+0200
RRULE:FREQ=YEARLY;BYDAY=-1SU;BYMONTH=3
TZNAME:CEST
END:DAYLIGHT
END:VTIMEZONE
BEGIN:VEVENT
UID:20240622T200000-622678@evangelische-termine.de
DTSTAMP:20260425T201352Z
DESCRIPTION:\nKurzbeschreibung: Einlass ab 19:30 Uhr - Eine Veranstaltung v
 on @ew_slam\nVeranstaltungsort: Johanniskirche Eberswalde\nLudwig-Sandberg
 -Straße 5\n16225 Eberswalde\nwww.johanniskirche.com\nEintritt: Abendkasse
DTSTART;TZID=Europe/Berlin:20240622T200000
DTEND;TZID=Europe/Berlin:20240622T210000
LOCATION:Eberswalde: Johanniskirche Eberswalde
SUMMARY:Poetry Slam 'Luft und Liebe'
URL:https://ekbo-termine.de/veranstaltung_im_detail622678.html
END:VEVENT
END:VCALENDAR
