BEGIN:VCALENDAR
VERSION:2.0
PRODID:-//evangelische-termine.de//NONSGML kigkonsult.se iCalcreator 2.18//
CALSCALE:GREGORIAN
METHOD:PUBLISH
X-WR-CALNAME:iCal Evangelische-Termine 23.04.2026
X-WR-CALDESC:iCalender von Evangelische-Termine (23.04.2026)
X-WR-TIMEZONE:Europe/Berlin
X-MS-OLK-FORCEINSPECTOROPEN:TRUE
BEGIN:VTIMEZONE
TZID:Europe/Berlin
BEGIN:STANDARD
DTSTART:19701025T030000
TZOFFSETFROM:+0200
TZOFFSETTO:+0100
RRULE:FREQ=YEARLY;BYDAY=-1SU;BYMONTH=10
TZNAME:CET
END:STANDARD
BEGIN:DAYLIGHT
DTSTART:19700329T020000
TZOFFSETFROM:+0100
TZOFFSETTO:+0200
RRULE:FREQ=YEARLY;BYDAY=-1SU;BYMONTH=3
TZNAME:CEST
END:DAYLIGHT
END:VTIMEZONE
BEGIN:VEVENT
UID:20240714T103000-623927@evangelische-termine.de
DTSTAMP:20260423T114303Z
DESCRIPTION:\nKurzbeschreibung: mit der Jugendcappella am Weinberg und ansc
 hl. Kirchencafé\nPfarrperson oder Gottesdienstleitung: Pfrn. Dr. Christine
  Schlund\nVeranstaltungsort: Sophienkirche\nGr. Hamburger Str.\n10115 Berl
 in\nKürzel für Gottesdienste:  T = Taufe \nAnsprechperson: Pfrn. Dr. Chris
 tine Schlund
DTSTART;TZID=Europe/Berlin:20240714T103000
DTEND;TZID=Europe/Berlin:20240714T113000
LOCATION:Berlin: Sophienkirche
SUMMARY:Gottesdienst
URL:https://ekbo-termine.de/veranstaltung_im_detail623927.html
END:VEVENT
END:VCALENDAR
