BEGIN:VCALENDAR
VERSION:2.0
PRODID:-//evangelische-termine.de//NONSGML kigkonsult.se iCalcreator 2.18//
CALSCALE:GREGORIAN
METHOD:PUBLISH
X-WR-CALNAME:iCal Evangelische-Termine 26.04.2026
X-WR-CALDESC:iCalender von Evangelische-Termine (26.04.2026)
X-WR-TIMEZONE:Europe/Berlin
X-MS-OLK-FORCEINSPECTOROPEN:TRUE
BEGIN:VTIMEZONE
TZID:Europe/Berlin
BEGIN:STANDARD
DTSTART:19701025T030000
TZOFFSETFROM:+0200
TZOFFSETTO:+0100
RRULE:FREQ=YEARLY;BYDAY=-1SU;BYMONTH=10
TZNAME:CET
END:STANDARD
BEGIN:DAYLIGHT
DTSTART:19700329T020000
TZOFFSETFROM:+0100
TZOFFSETTO:+0200
RRULE:FREQ=YEARLY;BYDAY=-1SU;BYMONTH=3
TZNAME:CEST
END:DAYLIGHT
END:VTIMEZONE
BEGIN:VEVENT
UID:20250130T123000-627984@evangelische-termine.de
DTSTAMP:20260426T002202Z
DESCRIPTION:\nKurzbeschreibung: kurze Konzerte zur Mittagszeit\nVeranstaltu
 ngsort: Luisenkirche\nGierkeplatz\n10585 Berlin - Charlottenburg\nGemeinde
 büro Tel.: (030) 341 90 61\nWeitere Informationen/Besondere Hinweise: Wir 
 laden jeden Donnerstag um 12.30 Uhr zu einem Kurzkonzert in die Luisenkirc
 he ein. Die neue Reil-Orgel der Luisenkirche klingt hervorragend und sieht
  aus wunderschön aus.\n\nDer Eintritt ist frei - Spenden kommen dem Orgelb
 auverein zugute. Die Orgelbauverein finanziert die Konzertreihe und unters
 tützt die Kirchengemeinde mit dem Bau der neuen Orgel.\nMusikalische Kateg
 orie: Orgelmusik\; Alte Musik / Historische Aufführungspraxis\; Neue Musik
  / Avantgarde\; Sonstiges\nMitwirkende/Interpret(en): Megumi Hamaya wurde 
 in Japan geboren und spielte seit ihrer Kindheit Klavier und Harmonium. Mi
 t 18 Jahren begann sie ihr Orgelstudium bei Kimiko Nakayama und schloss ih
 r Bachelorstudium in Kyoto ab. Ab 2009 setzte sie ihr Studium an der Hochs
 chule für Musik in Freiburg bei Prof. Helmut Deutsch fort und erwarb ihren
  Masterabschluss. 2015 absolvierte sie das Konzertexamen bei Prof. Leo van
  Doeselaar an der Universität der Künste Berlin.\n\nSie gewann mehrere Pre
 ise bei internationalen Wettbewerben\, darunter den 2. Preis beim renommie
 rten Schnitger-Orgelwettbewerb in Alkmaar. Ihr Repertoire reicht von der R
 enaissance bis zur zeitgenössischen Musik mit zahlreichen Uraufführungen.
 \n\nMit rund 50 Konzerten pro Jahr spielt sie weltweit und in allen großen
  Kirchen Berlins. Seit 2020 ist sie Kantorin an der Evangelischen Segenski
 rche in Berlin. Neben ihrer Solotätigkeit ist sie eine gefragte Kammermusi
 kpartnerin\, aktuell arbeitet sie an einer CD mit Nicolaus A. Hubers „Ritu
 ale“ (2024).\nEintritt: Eintritt frei\nInternetadresse: https://luisenorge
 l.de/\nAnsprechperson: Jack Day Johannestag@gmail.com\n0152 - 3434 1945
DTSTART;TZID=Europe/Berlin:20250130T123000
DTEND;TZID=Europe/Berlin:20250130T130000
LOCATION:Berlin - Charlottenburg: Luisenkirche
SUMMARY:Lunchtime Concerts at Luisenkirche: Megumi Hamaya
URL:https://ekbo-termine.de/veranstaltung_im_detail627984.html
END:VEVENT
END:VCALENDAR
