BEGIN:VCALENDAR
VERSION:2.0
PRODID:-//evangelische-termine.de//NONSGML kigkonsult.se iCalcreator 2.18//
CALSCALE:GREGORIAN
METHOD:PUBLISH
X-WR-CALNAME:iCal Evangelische-Termine 23.04.2026
X-WR-CALDESC:iCalender von Evangelische-Termine (23.04.2026)
X-WR-TIMEZONE:Europe/Berlin
X-MS-OLK-FORCEINSPECTOROPEN:TRUE
BEGIN:VTIMEZONE
TZID:Europe/Berlin
BEGIN:STANDARD
DTSTART:19701025T030000
TZOFFSETFROM:+0200
TZOFFSETTO:+0100
RRULE:FREQ=YEARLY;BYDAY=-1SU;BYMONTH=10
TZNAME:CET
END:STANDARD
BEGIN:DAYLIGHT
DTSTART:19700329T020000
TZOFFSETFROM:+0100
TZOFFSETTO:+0200
RRULE:FREQ=YEARLY;BYDAY=-1SU;BYMONTH=3
TZNAME:CEST
END:DAYLIGHT
END:VTIMEZONE
BEGIN:VEVENT
UID:20241019T160000-634944@evangelische-termine.de
DTSTAMP:20260423T011806Z
DESCRIPTION:\nKurzbeschreibung: Gottesdienst mit Abdm.\, Posaunendienst der
  EKBO +KiGo\nPfarrperson oder Gottesdienstleitung: Marie-Luise Gürtler\nVe
 ranstaltungsort: St.-Gertraud-Kirche Frankfurt (Oder)\nGertraudenplatz 6\n
 15230 Frankfurt (Oder)\nKürzel für Gottesdienste:  A = Abendmahl im Gottes
 dienst\;  AoA = Abendmahl ohne Alkohol \;  mKigo = mit Kindergottesdienst 
 (parallel zum Gottesdienst)\;  Mu = musikalischer Gottesdienst 
DTSTART;TZID=Europe/Berlin:20241019T160000
DTEND;TZID=Europe/Berlin:20241019T173000
LOCATION:Frankfurt (Oder): St.-Gertraud-Kirche Frankfurt (Oder)
SUMMARY:Gottesdienst mit Abdm.\, Posaunendienst der EKBO +KiGo
URL:https://ekbo-termine.de/veranstaltung_im_detail634944.html
END:VEVENT
END:VCALENDAR
