BEGIN:VCALENDAR
VERSION:2.0
PRODID:-//evangelische-termine.de//NONSGML kigkonsult.se iCalcreator 2.18//
CALSCALE:GREGORIAN
METHOD:PUBLISH
X-WR-CALNAME:iCal Evangelische-Termine 24.04.2026
X-WR-CALDESC:iCalender von Evangelische-Termine (24.04.2026)
X-WR-TIMEZONE:Europe/Berlin
X-MS-OLK-FORCEINSPECTOROPEN:TRUE
BEGIN:VTIMEZONE
TZID:Europe/Berlin
BEGIN:STANDARD
DTSTART:19701025T030000
TZOFFSETFROM:+0200
TZOFFSETTO:+0100
RRULE:FREQ=YEARLY;BYDAY=-1SU;BYMONTH=10
TZNAME:CET
END:STANDARD
BEGIN:DAYLIGHT
DTSTART:19700329T020000
TZOFFSETFROM:+0100
TZOFFSETTO:+0200
RRULE:FREQ=YEARLY;BYDAY=-1SU;BYMONTH=3
TZNAME:CEST
END:DAYLIGHT
END:VTIMEZONE
BEGIN:VEVENT
UID:20241013T103000-640048@evangelische-termine.de
DTSTAMP:20260424T033502Z
DESCRIPTION:\nKurzbeschreibung: Gottesdienst zum Erntedank\nPfarrperson ode
 r Gottesdienstleitung: Frank Gründler\nVeranstaltungsort: Kapelle WichernD
 iakonie Frankfurt (Oder)\nLuisenstraße 21\n15230 Frankfurt (Oder)\nKürzel 
 für Gottesdienste:  E = Erntedankfest
DTSTART;TZID=Europe/Berlin:20241013T103000
DTEND;TZID=Europe/Berlin:20241013T120000
LOCATION:Frankfurt (Oder): Kapelle WichernDiakonie Frankfurt (Oder)
SUMMARY:Gottesdienst zum Erntedank
URL:https://ekbo-termine.de/veranstaltung_im_detail640048.html
END:VEVENT
END:VCALENDAR
