BEGIN:VCALENDAR
VERSION:2.0
PRODID:-//evangelische-termine.de//NONSGML kigkonsult.se iCalcreator 2.18//
CALSCALE:GREGORIAN
METHOD:PUBLISH
X-WR-CALNAME:iCal Evangelische-Termine 26.04.2026
X-WR-CALDESC:iCalender von Evangelische-Termine (26.04.2026)
X-WR-TIMEZONE:Europe/Berlin
X-MS-OLK-FORCEINSPECTOROPEN:TRUE
BEGIN:VTIMEZONE
TZID:Europe/Berlin
BEGIN:STANDARD
DTSTART:19701025T030000
TZOFFSETFROM:+0200
TZOFFSETTO:+0100
RRULE:FREQ=YEARLY;BYDAY=-1SU;BYMONTH=10
TZNAME:CET
END:STANDARD
BEGIN:DAYLIGHT
DTSTART:19700329T020000
TZOFFSETFROM:+0100
TZOFFSETTO:+0200
RRULE:FREQ=YEARLY;BYDAY=-1SU;BYMONTH=3
TZNAME:CEST
END:DAYLIGHT
END:VTIMEZONE
BEGIN:VEVENT
UID:20241020T170000-643595@evangelische-termine.de
DTSTAMP:20260425T233537Z
DESCRIPTION:\nVeranstaltungsort: Dorfkirche Wandlitz\nBreitscheidstraße 20
 \n16348 Wandlitz\nWeitere Informationen/Besondere Hinweise: Die diesjährig
 e Konzertreihe wird am Sonntag\, den 20. Oktober um 17 Uhr erstmals mit ei
 nem spannenden Jazzkonzert fortgesetzt. Zu Gast ist das Rodrigo Bauzá Trio
  mit dem Geiger Rodrigo Bauzá\, dem Gitarristen Francisco Batista und Igor
  Spallati am Kontrabass.  Die Musiker widmen sich mit Leidenschaft dem aku
 stischen Jazz.\nDas Programm vereint Kompositionen\, die vom europäischen 
 Swing der 40er und 50er Jahre geprägt sind\, und enthält Stücke von Georg 
 Gershwin und bekannten Jazz-Größen wie Louis Armstrong\, Cole Porter\, Dav
 e Brubeck\, Dexter Gordon u.a..\nDie Musiker des Trios sind nicht nur in d
 er Berliner Jazzszene \, sondern auch international bekannt.\nSeien Sie he
 rzlich eingeladen und lassen Sie sich überraschen. \nDas Team des 'Weltlad
 ens' wird den Besuchern vor dem Konzert Getränke anbieten. \nDer Eintritt 
 ist wie immer frei\, um Spenden wird gebeten.\nMusikalische Kategorie: Gos
 pel / Popmusik / Jazz\nAnsprechperson: Wilhelm Evermann evermann.w@web.de
DTSTART;TZID=Europe/Berlin:20241020T170000
DTEND;TZID=Europe/Berlin:20241020T180000
LOCATION:Wandlitz: Dorfkirche Wandlitz
SUMMARY:Jazz in Wandlitzer Dorfkirche
URL:https://ekbo-termine.de/veranstaltung_im_detail643595.html
END:VEVENT
END:VCALENDAR
