BEGIN:VCALENDAR
VERSION:2.0
PRODID:-//evangelische-termine.de//NONSGML kigkonsult.se iCalcreator 2.18//
CALSCALE:GREGORIAN
METHOD:PUBLISH
X-WR-CALNAME:iCal Evangelische-Termine 21.04.2026
X-WR-CALDESC:iCalender von Evangelische-Termine (21.04.2026)
X-WR-TIMEZONE:Europe/Berlin
X-MS-OLK-FORCEINSPECTOROPEN:TRUE
BEGIN:VTIMEZONE
TZID:Europe/Berlin
BEGIN:STANDARD
DTSTART:19701025T030000
TZOFFSETFROM:+0200
TZOFFSETTO:+0100
RRULE:FREQ=YEARLY;BYDAY=-1SU;BYMONTH=10
TZNAME:CET
END:STANDARD
BEGIN:DAYLIGHT
DTSTART:19700329T020000
TZOFFSETFROM:+0100
TZOFFSETTO:+0200
RRULE:FREQ=YEARLY;BYDAY=-1SU;BYMONTH=3
TZNAME:CEST
END:DAYLIGHT
END:VTIMEZONE
BEGIN:VEVENT
UID:20241124T143000-648133@evangelische-termine.de
DTSTAMP:20260421T204047Z
DESCRIPTION:\nKurzbeschreibung: Gottesdienst mit Abdm. zum Ewigkeitssonntag
 \nPfarrperson oder Gottesdienstleitung: Gabriele Neumann\nVeranstaltungsor
 t: Kirche Kliestow Frankfurt (Oder)\nLebuser Straße 16a\n15234 Frankfurt (
 Oder)\nKürzel für Gottesdienste:  A = Abendmahl im Gottesdienst\;  AoA = A
 bendmahl ohne Alkohol 
DTSTART;TZID=Europe/Berlin:20241124T143000
DTEND;TZID=Europe/Berlin:20241124T153000
LOCATION:Frankfurt (Oder): Kirche Kliestow Frankfurt (Oder)
SUMMARY:Gottesdienst mit Abdm. zum Ewigkeitssonntag
URL:https://ekbo-termine.de/veranstaltung_im_detail648133.html
END:VEVENT
END:VCALENDAR
