BEGIN:VCALENDAR
VERSION:2.0
PRODID:-//evangelische-termine.de//NONSGML kigkonsult.se iCalcreator 2.18//
CALSCALE:GREGORIAN
METHOD:PUBLISH
X-WR-CALNAME:iCal Evangelische-Termine 26.04.2026
X-WR-CALDESC:iCalender von Evangelische-Termine (26.04.2026)
X-WR-TIMEZONE:Europe/Berlin
X-MS-OLK-FORCEINSPECTOROPEN:TRUE
BEGIN:VTIMEZONE
TZID:Europe/Berlin
BEGIN:STANDARD
DTSTART:19701025T030000
TZOFFSETFROM:+0200
TZOFFSETTO:+0100
RRULE:FREQ=YEARLY;BYDAY=-1SU;BYMONTH=10
TZNAME:CET
END:STANDARD
BEGIN:DAYLIGHT
DTSTART:19700329T020000
TZOFFSETFROM:+0100
TZOFFSETTO:+0200
RRULE:FREQ=YEARLY;BYDAY=-1SU;BYMONTH=3
TZNAME:CEST
END:DAYLIGHT
END:VTIMEZONE
BEGIN:VEVENT
UID:20241208T140000-651654@evangelische-termine.de
DTSTAMP:20260425T225749Z
DESCRIPTION:\nKurzbeschreibung: Vorweihnachtliche Stimmung mit Andacht\, Ad
 ventsliedersingen\, Markständen und Weihnachtsoratorium\nVeranstaltungsort
 : Wiese vor der Inselkirche und Inselkirche Hermannswerder\nHermannswerder
 \n14473 Potsdam\nWeitere Informationen/Besondere Hinweise: Kunsthandwerk u
 nd Weihnachtsspezialitäten\, Festliches und Duftendes\, Süßes und Herzhaft
 es\, Musik und Gesang – auch in diesem Jahr freuen wir uns auf unseren Adv
 entsmarkt. \nMit einem musikalischen Gottesdienst starten wir traditionell
  in der kerzenbeleuchteten Inselkirche. \nMit viel Liebe zum Selbstgemacht
 en werden die Mitarbeitenden der Einrichtungen der Hoffbauer-Stiftung\, un
 sere Kooperationspartner*innen sowie Künstler*innen und Handwerker*innen i
 hre Waren an bunten Marktständen präsentieren. Das ebenfalls traditionelle
  gemeinsame Adventslieder-Singen mit allen kleinen und großen Besucher*inn
 en findet draußen an einem Feuer statt. \nZum Weihnachtsoratorium laden di
 e Chöre des Evangelischen Gymnasium Hermannswerder\, die Musiker und Musik
 erinnen der Potsdamer Orchesterwoche und Solisten um 17.30 Uhr in die Inse
 lkirche ein. Tickets gibt es ab der ersten Novemberwoche im Sekretariat de
 s Gymnasiums.\n\nFreuen Sie sich auf adventliche Stimmung mit Lichterglanz
 \, Musik\, Leckereien und allerlei Schönem!\nMusikalische Kategorie: Kanta
 te / Oratorium / Passion / Messe\; Chormusik\; Sonstiges\nAufgeführte Werk
 e: Weihnachtsoratorium\nInternetadresse: https://www.hoffbauer-stiftung.de
 /veranstaltungen/event/adventsmarkt-hermannswerder-2024/
DTSTART;TZID=Europe/Berlin:20241208T140000
DTEND;TZID=Europe/Berlin:20241208T180000
LOCATION:Potsdam: Wiese vor der Inselkirche und Inselkirche Hermannswerder
SUMMARY:Adventsmarkt auf Hermannswerder :: Freuen Sie sich auf adventliche 
 Stimmung mit Lichterglanz\, Musik\, Leckereien und allerlei Schönem!
URL:https://ekbo-termine.de/veranstaltung_im_detail651654.html
END:VEVENT
END:VCALENDAR
