BEGIN:VCALENDAR
VERSION:2.0
PRODID:-//evangelische-termine.de//NONSGML kigkonsult.se iCalcreator 2.18//
CALSCALE:GREGORIAN
METHOD:PUBLISH
X-WR-CALNAME:iCal Evangelische-Termine 21.04.2026
X-WR-CALDESC:iCalender von Evangelische-Termine (21.04.2026)
X-WR-TIMEZONE:Europe/Berlin
X-MS-OLK-FORCEINSPECTOROPEN:TRUE
BEGIN:VTIMEZONE
TZID:Europe/Berlin
BEGIN:STANDARD
DTSTART:19701025T030000
TZOFFSETFROM:+0200
TZOFFSETTO:+0100
RRULE:FREQ=YEARLY;BYDAY=-1SU;BYMONTH=10
TZNAME:CET
END:STANDARD
BEGIN:DAYLIGHT
DTSTART:19700329T020000
TZOFFSETFROM:+0100
TZOFFSETTO:+0200
RRULE:FREQ=YEARLY;BYDAY=-1SU;BYMONTH=3
TZNAME:CEST
END:DAYLIGHT
END:VTIMEZONE
BEGIN:VEVENT
UID:20250409T180000-690213@evangelische-termine.de
DTSTAMP:20260421T081421Z
DESCRIPTION:\nKurzbeschreibung: Musik und Texte am Denkmal an der Zionskirc
 he\nVeranstaltungsort: Zionskirche\nZionskirchplatz\n10119 Berlin
DTSTART;TZID=Europe/Berlin:20250409T180000
DTEND;TZID=Europe/Berlin:20250409T190000
LOCATION:Berlin: Zionskirche
SUMMARY:Erinnerung an Dietrich Bonhoeffer :: Musik und Texte am Denkmal an 
 der Zionskirche 
URL:https://ekbo-termine.de/veranstaltung_im_detail690213.html
END:VEVENT
END:VCALENDAR
