BEGIN:VCALENDAR
VERSION:2.0
PRODID:-//evangelische-termine.de//NONSGML kigkonsult.se iCalcreator 2.18//
CALSCALE:GREGORIAN
METHOD:PUBLISH
X-WR-CALNAME:iCal Evangelische-Termine 21.04.2026
X-WR-CALDESC:iCalender von Evangelische-Termine (21.04.2026)
X-WR-TIMEZONE:Europe/Berlin
X-MS-OLK-FORCEINSPECTOROPEN:TRUE
BEGIN:VTIMEZONE
TZID:Europe/Berlin
BEGIN:STANDARD
DTSTART:19701025T030000
TZOFFSETFROM:+0200
TZOFFSETTO:+0100
RRULE:FREQ=YEARLY;BYDAY=-1SU;BYMONTH=10
TZNAME:CET
END:STANDARD
BEGIN:DAYLIGHT
DTSTART:19700329T020000
TZOFFSETFROM:+0100
TZOFFSETTO:+0200
RRULE:FREQ=YEARLY;BYDAY=-1SU;BYMONTH=3
TZNAME:CEST
END:DAYLIGHT
END:VTIMEZONE
BEGIN:VEVENT
UID:20260326T200000-711888@evangelische-termine.de
DTSTAMP:20260421T093957Z
DESCRIPTION:\nKurzbeschreibung: 10 Jahre - Die Jubiläumstour\nVeranstaltung
 sort: Berliner Dom\nAm Lustgarten\n10178 Berlin\nU+S Alexanderplatz\; S Ha
 ckescher Markt\nWeitere Informationen/Besondere Hinweise: Einlass ab 19.30
  Uhr.\nMusikalische Kategorie: Sonstiges\nAufgeführte Werke: ICH\, JUDAS -
  Einer unter euch wird mich verraten!\nBen Beckers Erfolgsinszenierung fei
 ert Jubiläum – und geht erneut auf Tour\nMitwirkende/Interpret(en): Ben Be
 cker\, szenische Aufführung\nDomorganist Andreas Sieling\, Orgel\nEintritt
 : Tickets ab 32\,90€\nInternetadresse: https://meisterwerke.reservix.de/ti
 ckets-ben-becker-ich-judas-10-jahre-die-jubilaeumstour-in-berlin-berliner-
 dom-am-26-3-2026/e2421568\nAnsprechperson: Maren Glockner maren.glockner@b
 erlinerdom.de\n030 202 69 119
DTSTART;TZID=Europe/Berlin:20260326T200000
DTEND;TZID=Europe/Berlin:20260326T212000
LOCATION:Berlin: Berliner Dom
SUMMARY:AUSVERKAUFT: Ben Becker: Ich\, Judas
URL:https://ekbo-termine.de/veranstaltung_im_detail711888.html
END:VEVENT
END:VCALENDAR
