BEGIN:VCALENDAR
VERSION:2.0
PRODID:-//evangelische-termine.de//NONSGML kigkonsult.se iCalcreator 2.18//
CALSCALE:GREGORIAN
METHOD:PUBLISH
X-WR-CALNAME:iCal Evangelische-Termine 21.04.2026
X-WR-CALDESC:iCalender von Evangelische-Termine (21.04.2026)
X-WR-TIMEZONE:Europe/Berlin
X-MS-OLK-FORCEINSPECTOROPEN:TRUE
BEGIN:VTIMEZONE
TZID:Europe/Berlin
BEGIN:STANDARD
DTSTART:19701025T030000
TZOFFSETFROM:+0200
TZOFFSETTO:+0100
RRULE:FREQ=YEARLY;BYDAY=-1SU;BYMONTH=10
TZNAME:CET
END:STANDARD
BEGIN:DAYLIGHT
DTSTART:19700329T020000
TZOFFSETFROM:+0100
TZOFFSETTO:+0200
RRULE:FREQ=YEARLY;BYDAY=-1SU;BYMONTH=3
TZNAME:CEST
END:DAYLIGHT
END:VTIMEZONE
BEGIN:VEVENT
UID:20260115T183000-746135@evangelische-termine.de
DTSTAMP:20260421T080323Z
DESCRIPTION:\nVeranstaltungsort: Französische Friedrichstadtkirche\nGendarm
 enmarkt 5\n10117 Berlin\nEingang befindet sich ggü. Charlottenstr. 53/54\n
 Weitere Informationen/Besondere Hinweise: Aufgeregt\, unversöhnlich und au
 f das Negative fokussiert – so laufen derzeit viele Diskussionen in der Öf
 fentlichkeit oder im Privaten. Radio- und Fernsehnachrichten sind voll von
  Meldungen über das\, was nicht funktioniert. In den „sozialen“ Medien ver
 breitet sich Negatives besonders schnell und weitreichend: Schlechte Nachr
 ichten sind gute Nachrichten\, wenn es um Aufmerksamkeit geht. Wie gefährl
 ich ist das? Brauchen wir mehr Fokus aufs Gelingen und ein hilfreiches Mit
 einander?\nBraucht es einen konstruktiveren Journalismus und eine andere p
 olitische Kultur in Diskussionen? Wenn ja\, wie kämen wir dahin? Und ist w
 irklich alles (nur) eine Frage der Kommunikation? Darum geht es im rbb24 I
 nforadio Forum in Kooperation mit der Evangelischen Akademie zu Berlin.\nE
 intritt: Siehe Website der Ev. Akademie zu Berlin\nInternetadresse: https:
 //www.eaberlin.de/seminars/data/2026/01/gute-nachricht-in-schlechten-zeite
 n/
DTSTART;TZID=Europe/Berlin:20260115T183000
DTEND;TZID=Europe/Berlin:20260115T203000
LOCATION:Berlin: Französische Friedrichstadtkirche
SUMMARY:Gute Nachricht in schlechten Zeiten? rbb24 Inforadio Forum
URL:https://ekbo-termine.de/veranstaltung_im_detail746135.html
END:VEVENT
END:VCALENDAR
