BEGIN:VCALENDAR
VERSION:2.0
PRODID:-//evangelische-termine.de//NONSGML kigkonsult.se iCalcreator 2.18//
CALSCALE:GREGORIAN
METHOD:PUBLISH
X-WR-CALNAME:iCal Evangelische-Termine 19.04.2026
X-WR-CALDESC:iCalender von Evangelische-Termine (19.04.2026)
X-WR-TIMEZONE:Europe/Berlin
X-MS-OLK-FORCEINSPECTOROPEN:TRUE
BEGIN:VTIMEZONE
TZID:Europe/Berlin
BEGIN:STANDARD
DTSTART:19701025T030000
TZOFFSETFROM:+0200
TZOFFSETTO:+0100
RRULE:FREQ=YEARLY;BYDAY=-1SU;BYMONTH=10
TZNAME:CET
END:STANDARD
BEGIN:DAYLIGHT
DTSTART:19700329T020000
TZOFFSETFROM:+0100
TZOFFSETTO:+0200
RRULE:FREQ=YEARLY;BYDAY=-1SU;BYMONTH=3
TZNAME:CEST
END:DAYLIGHT
END:VTIMEZONE
BEGIN:VEVENT
UID:20260424T190000-746881@evangelische-termine.de
DTSTAMP:20260419T132825Z
DESCRIPTION:\nVeranstaltungsort: Dom St.-Marien Fürstenwalde/Spree\nDomplat
 z 10\n15517 Fürstenwalde/Spree\nDie Domstadt Fürstenwalde/Spree ist über d
 ie Autobahn A 12 und die Regionalbahn 1 zu erreichen und liegt zwischen Be
 rlin und Frankfurt (O).\nOffen an 7 Tagen/Woche: Mo bis Fr 10 – 15 Uhr / S
 a\, So 11 – 16 Uhr\n> Winterzeit: Mo bis Fr 10 – 15 Uhr / Sa\, So\, Feiert
 ag 11 – 16 Uhr\n> Sommerzeit: Mo bis Fr 10 – 16 Uhr / Sa\, So\, Feiertag 1
 1 – 17 Uhr\nWeitere Informationen/Besondere Hinweise: Es wird ein Abend vo
 ller moderner\, berührender Musik und geistlichen Impulsen\, bei dem man d
 en Alltag hinter sich lassen und sein Herz vor Gott öffnen kann. \nMit Zei
 t für Gemeinschaft und guten Gespräche.\n\nEine Initiative der christliche
 n Gemeinden in Fürstenwalde.\nMusikalische Kategorie: Neue Musik / Avantga
 rde\nEintritt: frei\nAnsprechperson: Christine Bischoff kirchenbuero-fuers
 tenwalde@ekkos.de\n03361 735 60 50
DTSTART;TZID=Europe/Berlin:20260424T190000
DTEND;TZID=Europe/Berlin:20260424T200000
LOCATION:Fürstenwalde/Spree: Dom St.-Marien Fürstenwalde/Spree
SUMMARY:Lieder und Lichterabend – Lobpreis - Musik und Begegnung
URL:https://ekbo-termine.de/veranstaltung_im_detail746881.html
END:VEVENT
END:VCALENDAR
