BEGIN:VCALENDAR
VERSION:2.0
PRODID:-//evangelische-termine.de//NONSGML kigkonsult.se iCalcreator 2.18//
CALSCALE:GREGORIAN
METHOD:PUBLISH
X-WR-CALNAME:iCal Evangelische-Termine 21.04.2026
X-WR-CALDESC:iCalender von Evangelische-Termine (21.04.2026)
X-WR-TIMEZONE:Europe/Berlin
X-MS-OLK-FORCEINSPECTOROPEN:TRUE
BEGIN:VTIMEZONE
TZID:Europe/Berlin
BEGIN:STANDARD
DTSTART:19701025T030000
TZOFFSETFROM:+0200
TZOFFSETTO:+0100
RRULE:FREQ=YEARLY;BYDAY=-1SU;BYMONTH=10
TZNAME:CET
END:STANDARD
BEGIN:DAYLIGHT
DTSTART:19700329T020000
TZOFFSETFROM:+0100
TZOFFSETTO:+0200
RRULE:FREQ=YEARLY;BYDAY=-1SU;BYMONTH=3
TZNAME:CEST
END:DAYLIGHT
END:VTIMEZONE
BEGIN:VEVENT
UID:20260711T000000-748223@evangelische-termine.de
DTSTAMP:20260421T201925Z
DESCRIPTION:\nKurzbeschreibung: Grundschulkinder von 7.-12 Jahren fahren wu
 nderbar wandelbar in der ersten Sommerferienwoche an den Rückersdorfer See
 .\nVeranstaltungsort: Camp David am Rückersdorfer See\n Rückersdorf\nWeite
 re Informationen/Besondere Hinweise: Viel Zeit draußen und mit neuen und a
 lten Freund*innen verbringen\, dabei christliche Gemeinschaft erleben. \nD
 ie Jugendlichen gestalten das Programm für die Kinder und haben auch Zeit 
 für sich.  In diesem Jahr wird es wunderbar wandelbar. Von Saulus zu Paulu
 s\, von Tag zu Nacht\, von Wut zu Freude. Der Rückersdorfer See wartet sch
 on auf uns!\nAnsprechperson: Friedan Holzki (Kreisbeauftragte:r für die Ar
 beit mit Kindern und Jugendlichen) f.holzki@evkirchepotsdam.de\nGutenbergs
 traße 71/72\n14467 Potsdam\n\n 0331-2015369
DTSTART;VALUE=DATE:20260711
DTEND;VALUE=DATE:20260719
LOCATION:Rückersdorf: Camp David am Rückersdorfer See
SUMMARY:KINDER grasgrün&himmelblau 2026
URL:https://ekbo-termine.de/veranstaltung_im_detail748223.html
END:VEVENT
END:VCALENDAR
