BEGIN:VCALENDAR
VERSION:2.0
PRODID:-//evangelische-termine.de//NONSGML kigkonsult.se iCalcreator 2.18//
CALSCALE:GREGORIAN
METHOD:PUBLISH
X-WR-CALNAME:iCal Evangelische-Termine 21.04.2026
X-WR-CALDESC:iCalender von Evangelische-Termine (21.04.2026)
X-WR-TIMEZONE:Europe/Berlin
X-MS-OLK-FORCEINSPECTOROPEN:TRUE
BEGIN:VTIMEZONE
TZID:Europe/Berlin
BEGIN:STANDARD
DTSTART:19701025T030000
TZOFFSETFROM:+0200
TZOFFSETTO:+0100
RRULE:FREQ=YEARLY;BYDAY=-1SU;BYMONTH=10
TZNAME:CET
END:STANDARD
BEGIN:DAYLIGHT
DTSTART:19700329T020000
TZOFFSETFROM:+0100
TZOFFSETTO:+0200
RRULE:FREQ=YEARLY;BYDAY=-1SU;BYMONTH=3
TZNAME:CEST
END:DAYLIGHT
END:VTIMEZONE
BEGIN:VEVENT
UID:20260709T000000-748224@evangelische-termine.de
DTSTAMP:20260421T201642Z
DESCRIPTION:\nKurzbeschreibung: Jugendliche ab 14 Jahren fahren mit Grundsc
 hulkindern wunderbar wandelbar in der ersten Sommerferienwoche an den Rück
 ersdorfer See.\nVeranstaltungsort: Camp David am Rückersdorfer See\n Rücke
 rsdorf\nWeitere Informationen/Besondere Hinweise: Viel Zeit draußen und mi
 t neuen und alten Freund*innen verbringen\, dabei christliche Gemeinschaft
  erleben. \nDie Jugendlichen gestalten das Programm für die Kinder und hab
 en auch Zeit für sich.  In diesem Jahr wird es wunderbar wandelbar. Von Sa
 ulus zu Paulus\, von Tag zu Nacht\, von Wut zu Freude. Der Rückersdorfer S
 ee wartet schon auf uns!\nEintritt: 120€\nAnsprechperson: Friedan Holzki (
 Kreisbeauftragte:r für die Arbeit mit Kindern und Jugendlichen) f.holzki@e
 vkirchepotsdam.de\nGutenbergstraße 71/72\n14467 Potsdam\n\n 0331-2015369
DTSTART;VALUE=DATE:20260709
DTEND;VALUE=DATE:20260720
LOCATION:Rückersdorf: Camp David am Rückersdorfer See
SUMMARY:JUGEND grasgrün&himmelblau 26
URL:https://ekbo-termine.de/veranstaltung_im_detail748224.html
END:VEVENT
END:VCALENDAR
