BEGIN:VCALENDAR
VERSION:2.0
PRODID:-//evangelische-termine.de//NONSGML kigkonsult.se iCalcreator 2.18//
CALSCALE:GREGORIAN
METHOD:PUBLISH
X-WR-CALNAME:iCal Evangelische-Termine 20.04.2026
X-WR-CALDESC:iCalender von Evangelische-Termine (20.04.2026)
X-WR-TIMEZONE:Europe/Berlin
X-MS-OLK-FORCEINSPECTOROPEN:TRUE
BEGIN:VTIMEZONE
TZID:Europe/Berlin
BEGIN:STANDARD
DTSTART:19701025T030000
TZOFFSETFROM:+0200
TZOFFSETTO:+0100
RRULE:FREQ=YEARLY;BYDAY=-1SU;BYMONTH=10
TZNAME:CET
END:STANDARD
BEGIN:DAYLIGHT
DTSTART:19700329T020000
TZOFFSETFROM:+0100
TZOFFSETTO:+0200
RRULE:FREQ=YEARLY;BYDAY=-1SU;BYMONTH=3
TZNAME:CEST
END:DAYLIGHT
END:VTIMEZONE
BEGIN:VEVENT
UID:20260413T193000-748766@evangelische-termine.de
DTSTAMP:20260420T134053Z
DESCRIPTION:\nVeranstaltungsort: Schleiermacherhaus\nTaubenstr. 3\n10117 Be
 rlin\nWeitere Informationen/Besondere Hinweise: Der todkranke Dichter und 
 Kammergerichtsrat E.T.A. Hoffmann arbeitet im Februar 1822 in Berlin an se
 iner Verteidigungsschrift gegen die Anklage\,er habe in seinem Märchen „Me
 ister Floh“ hochrangige Staatsbeamte verleumdet. Am nächsten Tag soll darü
 ber eine Vernehmung stattfinden. Da bekommt er in seiner Wohnung über dem 
 Gendarmenmarkt Besuch von seinem Freund Adelbert von Chamisso. Statt an de
 r Verteidigungsschrift zu arbeiten\, lässt Hoffmann sein Leben Revue passi
 eren und bittet den Freund\, ihm von den Inseln der Südsee und seiner Reis
 e um die Welt zu erzählen.\nWährend beide Dichter eine Flasche Champagner 
 leeren\, erinnern sie sich an die Zeiten ihrer Serapionsbruderschaft. Hoff
 mann berichtet Chamisso von einer neuen Erzählung\, die er gerade zu dikti
 eren begonnen hat. In der Abenddämmerung verwandeln sich die Spaziergänger
  auf dem Gendarmenmarkt in die Gestalten aus seinen Nachtstücken und begin
 nen ein unerwartetes Eigenleben.\nEin Dialog über Dämonen und Dichtung im 
 Europa der Restauration.\nMusikalische Kategorie: Musikalisch-Szenisches\;
  Kammermusik\nMitwirkende/Interpret(en): Es lesen Linus Hüsam und Holger T
 eschke.\nGastgeber: Pfarrer Dr. Alexander Arno Heck\nAnsprechperson: Pfarr
 er Dr. Alexander Arno Heck alexander.heck@marienkirche-berlin.de
DTSTART;TZID=Europe/Berlin:20260413T193000
DTEND;TZID=Europe/Berlin:20260413T203000
LOCATION:Berlin: Schleiermacherhaus
SUMMARY:Salon bei Schleiermacher: “Hoffmanns Eckfenster”\, Hörspiel von Hol
 ger Teschke
URL:https://ekbo-termine.de/veranstaltung_im_detail748766.html
END:VEVENT
END:VCALENDAR
