BEGIN:VCALENDAR
VERSION:2.0
PRODID:-//evangelische-termine.de//NONSGML kigkonsult.se iCalcreator 2.18//
CALSCALE:GREGORIAN
METHOD:PUBLISH
X-WR-CALNAME:iCal Evangelische-Termine 21.04.2026
X-WR-CALDESC:iCalender von Evangelische-Termine (21.04.2026)
X-WR-TIMEZONE:Europe/Berlin
X-MS-OLK-FORCEINSPECTOROPEN:TRUE
BEGIN:VTIMEZONE
TZID:Europe/Berlin
BEGIN:STANDARD
DTSTART:19701025T030000
TZOFFSETFROM:+0200
TZOFFSETTO:+0100
RRULE:FREQ=YEARLY;BYDAY=-1SU;BYMONTH=10
TZNAME:CET
END:STANDARD
BEGIN:DAYLIGHT
DTSTART:19700329T020000
TZOFFSETFROM:+0100
TZOFFSETTO:+0200
RRULE:FREQ=YEARLY;BYDAY=-1SU;BYMONTH=3
TZNAME:CEST
END:DAYLIGHT
END:VTIMEZONE
BEGIN:VEVENT
UID:20260705T160000-753531@evangelische-termine.de
DTSTAMP:20260421T201955Z
DESCRIPTION:\nVeranstaltungsort: JG Pfingst\nGr.Weinmeisterstr.49B\n14467 P
 otsdam\nAnsprechperson: Kreisjugendpfarrerin Johannetta Cornell j.cornell@
 evkirchepotsdam.de\nGutenbergstraße 71/72\n14467 Potsdam\n0331-2015369
DTSTART;TZID=Europe/Berlin:20260705T160000
DTEND;TZID=Europe/Berlin:20260705T220000
LOCATION:Potsdam: JG Pfingst
SUMMARY:Sommerfest der Ev.Jugend
URL:https://ekbo-termine.de/veranstaltung_im_detail753531.html
END:VEVENT
END:VCALENDAR
