BEGIN:VCALENDAR
VERSION:2.0
PRODID:-//evangelische-termine.de//NONSGML kigkonsult.se iCalcreator 2.18//
CALSCALE:GREGORIAN
METHOD:PUBLISH
X-WR-CALNAME:iCal Evangelische-Termine 21.04.2026
X-WR-CALDESC:iCalender von Evangelische-Termine (21.04.2026)
X-WR-TIMEZONE:Europe/Berlin
X-MS-OLK-FORCEINSPECTOROPEN:TRUE
BEGIN:VTIMEZONE
TZID:Europe/Berlin
BEGIN:STANDARD
DTSTART:19701025T030000
TZOFFSETFROM:+0200
TZOFFSETTO:+0100
RRULE:FREQ=YEARLY;BYDAY=-1SU;BYMONTH=10
TZNAME:CET
END:STANDARD
BEGIN:DAYLIGHT
DTSTART:19700329T020000
TZOFFSETFROM:+0100
TZOFFSETTO:+0200
RRULE:FREQ=YEARLY;BYDAY=-1SU;BYMONTH=3
TZNAME:CEST
END:DAYLIGHT
END:VTIMEZONE
BEGIN:VEVENT
UID:20260426T100000-755674@evangelische-termine.de
DTSTAMP:20260421T082052Z
DESCRIPTION:\nPfarrperson oder Gottesdienstleitung: Ökumenische Kantorei\nV
 eranstaltungsort: Kirche St. Gertraud\nGertraudenplatz 6\n15230 Frankfurt 
 (Oder)\nKürzel für Gottesdienste:  J = Jugendgottesdienst \;  F = Familien
 gottesdienst \;  Kigo = Gottesdienst für Kinder\nInternetadresse: https://
 landing.churchdesk.com/de/e/45785998/gottesdienst-mit-schuler-innen-des-ev
 -gymnasiums
DTSTART;TZID=Europe/Berlin:20260426T100000
DTEND;TZID=Europe/Berlin:20260426T113000
LOCATION:Frankfurt (Oder): Kirche St. Gertraud
SUMMARY:Gottesdienst mit Schüler*innen des Ev. Gymnasiums
URL:https://ekbo-termine.de/veranstaltung_im_detail755674.html
END:VEVENT
END:VCALENDAR
