BEGIN:VCALENDAR
VERSION:2.0
PRODID:-//evangelische-termine.de//NONSGML kigkonsult.se iCalcreator 2.18//
CALSCALE:GREGORIAN
METHOD:PUBLISH
X-WR-CALNAME:iCal Evangelische-Termine 21.04.2026
X-WR-CALDESC:iCalender von Evangelische-Termine (21.04.2026)
X-WR-TIMEZONE:Europe/Berlin
X-MS-OLK-FORCEINSPECTOROPEN:TRUE
BEGIN:VTIMEZONE
TZID:Europe/Berlin
BEGIN:STANDARD
DTSTART:19701025T030000
TZOFFSETFROM:+0200
TZOFFSETTO:+0100
RRULE:FREQ=YEARLY;BYDAY=-1SU;BYMONTH=10
TZNAME:CET
END:STANDARD
BEGIN:DAYLIGHT
DTSTART:19700329T020000
TZOFFSETFROM:+0100
TZOFFSETTO:+0200
RRULE:FREQ=YEARLY;BYDAY=-1SU;BYMONTH=3
TZNAME:CEST
END:DAYLIGHT
END:VTIMEZONE
BEGIN:VEVENT
UID:20260429T180000-759061@evangelische-termine.de
DTSTAMP:20260420T232333Z
DESCRIPTION:\nVeranstaltungsort: Kirche St. Gertraud\nGertraudenplatz 6\n15
 230 Frankfurt (Oder)\nMitwirkende/Interpret(en): Marie-Luise Gürtler\, Ren
 é Pachmann (Projekt Glashaus)\nInternetadresse: https://landing.churchdesk
 .com/de/e/46146430/politisches-abendgebet
DTSTART;TZID=Europe/Berlin:20260429T180000
DTEND;TZID=Europe/Berlin:20260429T190000
LOCATION:Frankfurt (Oder): Kirche St. Gertraud
SUMMARY:Politisches Abendgebet
URL:https://ekbo-termine.de/veranstaltung_im_detail759061.html
END:VEVENT
END:VCALENDAR
