BEGIN:VCALENDAR
VERSION:2.0
PRODID:-//evangelische-termine.de//NONSGML kigkonsult.se iCalcreator 2.18//
CALSCALE:GREGORIAN
METHOD:PUBLISH
X-WR-CALNAME:iCal Evangelische-Termine 19.04.2026
X-WR-CALDESC:iCalender von Evangelische-Termine (19.04.2026)
X-WR-TIMEZONE:Europe/Berlin
X-MS-OLK-FORCEINSPECTOROPEN:TRUE
BEGIN:VTIMEZONE
TZID:Europe/Berlin
BEGIN:STANDARD
DTSTART:19701025T030000
TZOFFSETFROM:+0200
TZOFFSETTO:+0100
RRULE:FREQ=YEARLY;BYDAY=-1SU;BYMONTH=10
TZNAME:CET
END:STANDARD
BEGIN:DAYLIGHT
DTSTART:19700329T020000
TZOFFSETFROM:+0100
TZOFFSETTO:+0200
RRULE:FREQ=YEARLY;BYDAY=-1SU;BYMONTH=3
TZNAME:CEST
END:DAYLIGHT
END:VTIMEZONE
BEGIN:VEVENT
UID:20260419T140000-759859@evangelische-termine.de
DTSTAMP:20260419T132650Z
DESCRIPTION:\nVeranstaltungsort: Kirche Demnitz\nDorfstraße 13\n15518 Stein
 höfel OT Demnitz\nWeitere Informationen/Besondere Hinweise: Zum Begegnungs
 café laden wir herzlich ein und dazu gibt es die\nGelegenheit mit Anleitun
 g\, selbst Kerzen zu gestalten. (Ein Veranstaltung im Rahmen der Ev. Erwac
 hsenenbildung).\nEintritt: frei\nAnsprechperson: Pfarrerin Rahel Rietzl ra
 hel.rietzl@ekkos.de
DTSTART;TZID=Europe/Berlin:20260419T140000
DTEND;TZID=Europe/Berlin:20260419T150000
LOCATION:Steinhöfel OT Demnitz: Kirche Demnitz
SUMMARY:Andacht mit Begegnungskaffee
URL:https://ekbo-termine.de/veranstaltung_im_detail759859.html
END:VEVENT
END:VCALENDAR
