BEGIN:VCALENDAR
VERSION:2.0
PRODID:-//evangelische-termine.de//NONSGML kigkonsult.se iCalcreator 2.18//
CALSCALE:GREGORIAN
METHOD:PUBLISH
X-WR-CALNAME:iCal Evangelische-Termine 23.04.2026
X-WR-CALDESC:iCalender von Evangelische-Termine (23.04.2026)
X-WR-TIMEZONE:Europe/Berlin
X-MS-OLK-FORCEINSPECTOROPEN:TRUE
BEGIN:VTIMEZONE
TZID:Europe/Berlin
BEGIN:STANDARD
DTSTART:19701025T030000
TZOFFSETFROM:+0200
TZOFFSETTO:+0100
RRULE:FREQ=YEARLY;BYDAY=-1SU;BYMONTH=10
TZNAME:CET
END:STANDARD
BEGIN:DAYLIGHT
DTSTART:19700329T020000
TZOFFSETFROM:+0100
TZOFFSETTO:+0200
RRULE:FREQ=YEARLY;BYDAY=-1SU;BYMONTH=3
TZNAME:CEST
END:DAYLIGHT
END:VTIMEZONE
BEGIN:VEVENT
UID:20260510T170000-761316@evangelische-termine.de
DTSTAMP:20260423T025718Z
DESCRIPTION:\nKurzbeschreibung / Untertitel: oder Wer ist die Schönste im g
 anzen Land?\nVeranstaltungsort: Ev. Kirche Am Lietzensee Charlottenburg\nH
 erbartstr. 4-6\n14057 Berlin\nS Messe-Nord/ICC\; Bus X34\, M49\, 139\nMusi
 ker: Art d’Echo\nAlice Lackner | Mezzosopran\nIrene Klein | Viola da gamba
 \nMagnus Andersson | Laute\nJuliane Laake | Viola da gamba\, Konzept & kün
 stl. Leitung\nBeschreibung: Ein musikalischer Wettstreit zwischen dem Gamb
 isten Tobias Hume und dem Lautenisten John Dowland zum 400. Todestag\n\nTe
 il der TITANS RISING Konzertreihe für Alte Musik\nEntritt frei\, Spenden w
 illkommen\nhttps://titansrising.de\nmusikalische Kategorie: Alte Musik / H
 istorische Aufführungspraxis\; Kammermusik
DTSTART;TZID=Europe/Berlin:20260510T170000
DTEND;TZID=Europe/Berlin:20260510T181500
LOCATION:Berlin: Ev. Kirche Am Lietzensee Charlottenburg
SUMMARY:PRAISE GOD UPON THE LUTE AND VIOLL
URL:https://ekbo-termine.de/veranstaltung_im_detail761316.html
END:VEVENT
END:VCALENDAR
