BEGIN:VCALENDAR
VERSION:2.0
PRODID:-//evangelische-termine.de//NONSGML kigkonsult.se iCalcreator 2.18//
CALSCALE:GREGORIAN
METHOD:PUBLISH
X-WR-CALNAME:iCal Evangelische-Termine 20.04.2026
X-WR-CALDESC:iCalender von Evangelische-Termine (20.04.2026)
X-WR-TIMEZONE:Europe/Berlin
X-MS-OLK-FORCEINSPECTOROPEN:TRUE
BEGIN:VTIMEZONE
TZID:Europe/Berlin
BEGIN:STANDARD
DTSTART:19701025T030000
TZOFFSETFROM:+0200
TZOFFSETTO:+0100
RRULE:FREQ=YEARLY;BYDAY=-1SU;BYMONTH=10
TZNAME:CET
END:STANDARD
BEGIN:DAYLIGHT
DTSTART:19700329T020000
TZOFFSETFROM:+0100
TZOFFSETTO:+0200
RRULE:FREQ=YEARLY;BYDAY=-1SU;BYMONTH=3
TZNAME:CEST
END:DAYLIGHT
END:VTIMEZONE
BEGIN:VEVENT
UID:20260509T160000-763355@evangelische-termine.de
DTSTAMP:20260420T033613Z
DESCRIPTION:\nKurzbeschreibung: Im Rahmen der Reihe 'Musikschulen öffnen Ki
 rchen' tritt das Jugendblasorchester Havelland unter Leitung von Christoph
  Lipke in der St. Nikolai Kirche Markau auf\nVeranstaltungsort: St.-Nikola
 i-Kirche Markau\nHauptstraße 8\n14641 Nauen / OT Markau\nWeitere Informati
 onen/Besondere Hinweise: Vor und nach dem Konzert sorgt der Bürgerverein M
 arkee für Kaffee und Kuchen. Der Eintritt ist frei!\nMusikalische Kategori
 e: Bläsermusik\nEintritt: frei\nAnsprechperson: Pfarrer Dr. Johannes Neuge
 bauer johannes.neugebauer@gemeinsam.ekbo.de\nTel. 03321 4071659
DTSTART;TZID=Europe/Berlin:20260509T160000
DTEND;TZID=Europe/Berlin:20260509T173000
LOCATION:Nauen / OT Markau: St.-Nikolai-Kirche Markau
SUMMARY:Jugendblasorchester Havelland - Frühlingskonzert
URL:https://ekbo-termine.de/veranstaltung_im_detail763355.html
END:VEVENT
END:VCALENDAR
