BEGIN:VCALENDAR
VERSION:2.0
PRODID:-//evangelische-termine.de//NONSGML kigkonsult.se iCalcreator 2.18//
CALSCALE:GREGORIAN
METHOD:PUBLISH
X-WR-CALNAME:iCal Evangelische-Termine 24.04.2026
X-WR-CALDESC:iCalender von Evangelische-Termine (24.04.2026)
X-WR-TIMEZONE:Europe/Berlin
X-MS-OLK-FORCEINSPECTOROPEN:TRUE
BEGIN:VTIMEZONE
TZID:Europe/Berlin
BEGIN:STANDARD
DTSTART:19701025T030000
TZOFFSETFROM:+0200
TZOFFSETTO:+0100
RRULE:FREQ=YEARLY;BYDAY=-1SU;BYMONTH=10
TZNAME:CET
END:STANDARD
BEGIN:DAYLIGHT
DTSTART:19700329T020000
TZOFFSETFROM:+0100
TZOFFSETTO:+0200
RRULE:FREQ=YEARLY;BYDAY=-1SU;BYMONTH=3
TZNAME:CEST
END:DAYLIGHT
END:VTIMEZONE
BEGIN:VEVENT
UID:20260506T100000-764323@evangelische-termine.de
DTSTAMP:20260423T232313Z
DESCRIPTION:\nKurzbeschreibung: Die Veranstaltung wurde von der Betreuungse
 inrichtung 'Sonnenschein' für ihre Kunden initiiert\, ist aber auch für an
 dere Senioren und Pflegebedürftige nebst Betreuern offen. Kirchgemeinde un
 d Heimatverein...\nVeranstaltungsort: Haus der Begegnung Kliestow\nLebuser
  Straße 1b\n15234 Frankfurt (Oder)\nWeitere Informationen/Besondere Hinwei
 se: Die Veranstaltung  wurde von der Betreuungseinrichtung 'Sonnenschein' 
 für ihre Kunden initiiert\, ist aber auch für andere Senioren und Pflegebe
 dürftige nebst Betreuern offen. Kirchgemeinde und Heimatverein unterstütze
 n. \n  \n\nMitwirkende/Interpret(en): Katja Hamel\, Roland Peter\nInternet
 adresse: https://landing.churchdesk.com/de/e/45767204/seniorenkino
DTSTART;TZID=Europe/Berlin:20260506T100000
DTEND;TZID=Europe/Berlin:20260506T110000
LOCATION:Frankfurt (Oder): Haus der Begegnung Kliestow
SUMMARY:Seniorenkino
URL:https://ekbo-termine.de/veranstaltung_im_detail764323.html
END:VEVENT
END:VCALENDAR
