BEGIN:VCALENDAR
VERSION:2.0
PRODID:-//evangelische-termine.de//NONSGML kigkonsult.se iCalcreator 2.18//
CALSCALE:GREGORIAN
METHOD:PUBLISH
X-WR-CALNAME:iCal Evangelische-Termine 20.04.2026
X-WR-CALDESC:iCalender von Evangelische-Termine (20.04.2026)
X-WR-TIMEZONE:Europe/Berlin
X-MS-OLK-FORCEINSPECTOROPEN:TRUE
BEGIN:VTIMEZONE
TZID:Europe/Berlin
BEGIN:STANDARD
DTSTART:19701025T030000
TZOFFSETFROM:+0200
TZOFFSETTO:+0100
RRULE:FREQ=YEARLY;BYDAY=-1SU;BYMONTH=10
TZNAME:CET
END:STANDARD
BEGIN:DAYLIGHT
DTSTART:19700329T020000
TZOFFSETFROM:+0100
TZOFFSETTO:+0200
RRULE:FREQ=YEARLY;BYDAY=-1SU;BYMONTH=3
TZNAME:CEST
END:DAYLIGHT
END:VTIMEZONE
BEGIN:VEVENT
UID:20260509T170000-764368@evangelische-termine.de
DTSTAMP:20260420T034500Z
DESCRIPTION:\nKurzbeschreibung: Von Sonnenuntergang bis tief in die Nacht: 
 Musik für die Seele bis in die Fußspitzen\nVeranstaltungsort: Inselkirche 
 Hermannswerder\nHermannswerder 22\n14473 Potsdam\nWeitere Informationen/Be
 sondere Hinweise: Manchmal wünscht man sich\, das „Halleluja“ möge ewig we
 iterklingen. In der langen Nacht der Gospelchöre am 9. Mai 2026 wird das s
 o sein\, wenn verschiedenste Gospelchöre in die Nacht hinein in der Inselk
 irche singen. Die Chöre werden jeweils eine halbe Stunde singen\, bevor al
 le gemeinsam in einen Friedenssong einstimmen.\nMusikalische Kategorie: Ch
 ormusik\; Gospel / Popmusik / Jazz\nEintritt: 15\,- €\, Kinder bis 8 Jahre
  freier Eintritt\nInternetadresse: https://www.hoffbauer-stiftung.de/veran
 staltungen/event/lange-nacht-der-gospelchoere/
DTSTART;TZID=Europe/Berlin:20260509T170000
DTEND;TZID=Europe/Berlin:20260509T230000
LOCATION:Potsdam: Inselkirche Hermannswerder
SUMMARY:Lange Nacht der Gospelchöre
URL:https://ekbo-termine.de/veranstaltung_im_detail764368.html
END:VEVENT
END:VCALENDAR
