BEGIN:VCALENDAR
VERSION:2.0
PRODID:-//evangelische-termine.de//NONSGML kigkonsult.se iCalcreator 2.18//
CALSCALE:GREGORIAN
METHOD:PUBLISH
X-WR-CALNAME:iCal Evangelische-Termine 25.04.2026
X-WR-CALDESC:iCalender von Evangelische-Termine (25.04.2026)
X-WR-TIMEZONE:Europe/Berlin
X-MS-OLK-FORCEINSPECTOROPEN:TRUE
BEGIN:VTIMEZONE
TZID:Europe/Berlin
BEGIN:STANDARD
DTSTART:19701025T030000
TZOFFSETFROM:+0200
TZOFFSETTO:+0100
RRULE:FREQ=YEARLY;BYDAY=-1SU;BYMONTH=10
TZNAME:CET
END:STANDARD
BEGIN:DAYLIGHT
DTSTART:19700329T020000
TZOFFSETFROM:+0100
TZOFFSETTO:+0200
RRULE:FREQ=YEARLY;BYDAY=-1SU;BYMONTH=3
TZNAME:CEST
END:DAYLIGHT
END:VTIMEZONE
BEGIN:VEVENT
UID:20260801T160000-765763@evangelische-termine.de
DTSTAMP:20260425T201517Z
DESCRIPTION:\nKurzbeschreibung: „Mein Herz schlägt Heimat“\nVeranstaltungso
 rt: Stadtkirche Friesack\nCharlottenstraße\n14662 Friesack\nWeitere Inform
 ationen/Besondere Hinweise: Mit seinem Programm „Mein Herz schlägt Heimat“
  widmet sich Thomas Kübler den zeitlosen Klängen des Chansons\, dem elegan
 ten Swing und den Schlagern einer Epoche\, in der Musik noch Geschichten e
 rzählte – von Nähe\, Sehnsucht und dem Gefühl\, angekommen zu sein.\nAls S
 alonmusiker und Chansonnier führt Thomas Kübler mit Gesang\, Klavier und O
 rgel durch eine Welt feiner Melodien und vertrauter Lieder. Sein Spiel ver
 bindet musikalische Eleganz mit persönlicher Zurückhaltung und schafft ein
 e Atmosphäre\, die berührt\, ohne laut zu werden. Klassiker aus vergangene
 n Jahrzehnten begegnen Liedern\, die für viele Menschen bis heute Heimat b
 edeuten.\nDas Konzert versteht sich als musikalische Hommage an eine Zeit\
 , die nicht vergangen ist\, sondern in ihren Liedern weiterlebt.\nMusikali
 sche Kategorie: Musikalisch-Szenisches\nEintritt: Eintritt frei\, Kollekte
  erbeten\nAnsprechperson: Pfarrer Gerbeth u.gerbeth@kirche-nauen-rathenow.
 de\n033235 - 298602
DTSTART;TZID=Europe/Berlin:20260801T160000
DTEND;TZID=Europe/Berlin:20260801T170000
LOCATION:Friesack: Stadtkirche Friesack
SUMMARY:Konzert mit Meisterpianist Thomas Kübler
URL:https://ekbo-termine.de/veranstaltung_im_detail765763.html
END:VEVENT
END:VCALENDAR
